BEGIN:VCALENDAR
VERSION:2.0
PRODID:-//Jackson Hole Restaurants - ECPv6.15.20//NONSGML v1.0//EN
CALSCALE:GREGORIAN
METHOD:PUBLISH
X-WR-CALNAME:Jackson Hole Restaurants
X-ORIGINAL-URL:https://dishingjh.com
X-WR-CALDESC:Events for Jackson Hole Restaurants
REFRESH-INTERVAL;VALUE=DURATION:PT1H
X-Robots-Tag:noindex
X-PUBLISHED-TTL:PT1H
BEGIN:VTIMEZONE
TZID:America/Denver
BEGIN:DAYLIGHT
TZOFFSETFROM:-0700
TZOFFSETTO:-0600
TZNAME:MDT
DTSTART:20230312T090000
END:DAYLIGHT
BEGIN:STANDARD
TZOFFSETFROM:-0600
TZOFFSETTO:-0700
TZNAME:MST
DTSTART:20231105T080000
END:STANDARD
BEGIN:DAYLIGHT
TZOFFSETFROM:-0700
TZOFFSETTO:-0600
TZNAME:MDT
DTSTART:20240310T090000
END:DAYLIGHT
BEGIN:STANDARD
TZOFFSETFROM:-0600
TZOFFSETTO:-0700
TZNAME:MST
DTSTART:20241103T080000
END:STANDARD
BEGIN:DAYLIGHT
TZOFFSETFROM:-0700
TZOFFSETTO:-0600
TZNAME:MDT
DTSTART:20250309T090000
END:DAYLIGHT
BEGIN:STANDARD
TZOFFSETFROM:-0600
TZOFFSETTO:-0700
TZNAME:MST
DTSTART:20251102T080000
END:STANDARD
BEGIN:DAYLIGHT
TZOFFSETFROM:-0700
TZOFFSETTO:-0600
TZNAME:MDT
DTSTART:20260308T090000
END:DAYLIGHT
BEGIN:STANDARD
TZOFFSETFROM:-0600
TZOFFSETTO:-0700
TZNAME:MST
DTSTART:20261101T080000
END:STANDARD
BEGIN:DAYLIGHT
TZOFFSETFROM:-0700
TZOFFSETTO:-0600
TZNAME:MDT
DTSTART:20270314T090000
END:DAYLIGHT
BEGIN:STANDARD
TZOFFSETFROM:-0600
TZOFFSETTO:-0700
TZNAME:MST
DTSTART:20271107T080000
END:STANDARD
END:VTIMEZONE
BEGIN:VEVENT
DTSTART;TZID=America/Denver:20260225T180000
DTEND;TZID=America/Denver:20260225T200000
DTSTAMP:20260425T165335
CREATED:20260214T003514Z
LAST-MODIFIED:20260214T003514Z
UID:91353-1772042400-1772049600@dishingjh.com
SUMMARY:Alpine Wine Adventure at The Liquor Store of Jackson Hole
DESCRIPTION:Escape the ordinary this February and indulge in a magical Alpine?inspired evening. Join TLS as they “journey” through Europe’s breathtaking mountain regions\, savoring exceptional Alpine wines perfectly paired with artisanal charcuterie crafted to complement every sip. Settle into the warm\, intimate ambiance of our upstairs Wine Loft\, where our Wine Director\, Jeff\, will lead you through a flavorful winter adventure—rich in character\, comfort\, and charm. \nMore Information
URL:https://dishingjh.com/event/alpine-wine-adventure-at-the-liquor-store-of-jackson-hole/
LOCATION:The Liquor Store Jackson Hole\, 115 Buffalo Way\, Jackson\, 83001\, United States
CATEGORIES:Special Events
END:VEVENT
BEGIN:VEVENT
DTSTART;TZID=America/Denver:20251218T180000
DTEND;TZID=America/Denver:20251218T200000
DTSTAMP:20260425T165335
CREATED:20251215T215407Z
LAST-MODIFIED:20251215T215407Z
UID:90822-1766080800-1766088000@dishingjh.com
SUMMARY:Discover the Magic of Fortified Wines
DESCRIPTION:Join us on Thursday\, December 18th at 6:00 PM in the Wine Loft at TLS for an evening dedicated to the rich and complex world of fortified wines. Our wine director\, Jeff\, will guide you through an exceptional tasting featuring Ports\, Madeira’s\, Marsala’s\, and more—perfect for sharing during the festive season. Explore these often-misunderstood gems and uncover why they’re such an exciting treat for the holidays. Tickets are just $20 and available online\, plus enjoy 20% off all tasting products during the event.
URL:https://dishingjh.com/event/discover-the-magic-of-fortified-wines/
LOCATION:The Liquor Store Jackson Hole\, 115 Buffalo Way\, Jackson\, 83001\, United States
CATEGORIES:Special Events
END:VEVENT
BEGIN:VEVENT
DTSTART;TZID=America/Denver:20251217T180000
DTEND;TZID=America/Denver:20251217T200000
DTSTAMP:20260425T165335
CREATED:20251215T215118Z
LAST-MODIFIED:20251215T215118Z
UID:90820-1765994400-1766001600@dishingjh.com
SUMMARY:Hoppy Holidays: A Festive Beer Tasting at TLS
DESCRIPTION:Get ready to toast the season! Join us on Wednesday\, December 17th at 6:00 PM in the Wine Loft at TLS for a holiday beer tasting that’s brimming with cheer. Our resident beer guru\, Alex\, will take you on a flavorful journey through his newest seasonal brews—each one crafted to capture the magic of this time of year. Sip and savor 8 (yes\, we said 8) unique beers from around the globe\, nibble on tasty bites\, and soak in the festive vibes as we celebrate the most wonderful time of the year together. $20 advance tickets\, BUY HERE.
URL:https://dishingjh.com/event/hoppy-holidays-a-festive-beer-tasting-at-tls/
LOCATION:The Liquor Store Jackson Hole\, 115 Buffalo Way\, Jackson\, 83001\, United States
CATEGORIES:Special Events
END:VEVENT
BEGIN:VEVENT
DTSTART;TZID=America/Denver:20251217T180000
DTEND;TZID=America/Denver:20251217T200000
DTSTAMP:20260425T165335
CREATED:20251205T014923Z
LAST-MODIFIED:20251205T014923Z
UID:90597-1765994400-1766001600@dishingjh.com
SUMMARY:Festive Beer Tasting at The Liquor Store of Jackson Hole
DESCRIPTION:Get ready to toast the season! Join TLS on Wednesday\, December 17th at 6:00 PM in the Wine Loft at TLS for a holiday beer tasting that’s brimming with cheer. Our resident beer guru\, Alex\, will take you on a flavorful journey through his newest seasonal brews—each one crafted to capture the magic of this time of year. Sip and savor unique beers from around the globe\, nibble on tasty bites\, and soak in the festive vibes as we celebrate the most wonderful time of the year together. 20% Off all tasting beers \n$20 advance tickets\, purchase here
URL:https://dishingjh.com/event/festive-beer-tasting-at-the-liquor-store-of-jackson-hole/
LOCATION:The Liquor Store Jackson Hole\, 115 Buffalo Way\, Jackson\, 83001\, United States
CATEGORIES:Special Events
END:VEVENT
BEGIN:VEVENT
DTSTART;TZID=America/Denver:20251001T180000
DTEND;TZID=America/Denver:20251001T200000
DTSTAMP:20260425T165335
CREATED:20250923T220722Z
LAST-MODIFIED:20250923T220722Z
UID:90082-1759341600-1759348800@dishingjh.com
SUMMARY:Ocktoberfest in the Wine Loft at TLS
DESCRIPTION:Join upstairs in the Wine Loft at TLS for an unforgettable Oktoberfest celebration! \nOn Wednesday\, October 1st at 6:00 PM\, we’ll take you on a flavorful trek through some of the best Old World-style beers available in Wyoming. TLS proudly offers the state’s largest selection of direct-import beers\, and October is the perfect time to celebrate them! Free swag\, grub & tasting glass with expert guidance from our beer guru Alex as he guides you through a curated selection of authentic old world style brews. 20% off tasting beers! \nCelebrate Oktoberfest at TLS – October 1st at 6 PM! – Wine\, Liquor & Beer Store | The Liquor Store of Jackson Hole\, Jackson\, WY \nCome sip\, savor\, and celebrate beer! \n\n\n\n\n\n\n\n\n\n\n\n\n\n\n\n\n\n\n\n\n\n\n\n\n\n\n\n\n\n\n\n\n\n\n\n\n\n\n\n\n\n 
URL:https://dishingjh.com/event/ocktoberfest-in-the-wine-loft-at-tls/
LOCATION:The Liquor Store Jackson Hole\, 115 Buffalo Way\, Jackson\, 83001\, United States
CATEGORIES:Special Events
END:VEVENT
BEGIN:VEVENT
DTSTART;TZID=America/Denver:20240506T090000
DTEND;TZID=America/Denver:20240508T220000
DTSTAMP:20260425T165335
CREATED:20240420T033022Z
LAST-MODIFIED:20240420T033022Z
UID:84668-1714986000-1715205600@dishingjh.com
SUMMARY:Local Love Sale at The Liquor Store Jackson Hole
DESCRIPTION:The annual Local Love Sale at TLS and JH Marketplace!\nSave the date for May 6th – May 8th to shop the biggest discounts of the year and save up to 40% on wine\, beer\, liquor (and groceries at JH Marketplace).
URL:https://dishingjh.com/event/local-love-sale-at-the-liquor-store-jackson-hole/
LOCATION:The Liquor Store Jackson Hole\, 115 Buffalo Way\, Jackson\, 83001\, United States
CATEGORIES:Special Events
ORGANIZER;CN="The Liquor Store Jackson Hole":MAILTO:info@wineliquorbeer.com
END:VEVENT
BEGIN:VEVENT
DTSTART;TZID=America/Denver:20240505T090000
DTEND;TZID=America/Denver:20240505T220000
DTSTAMP:20260425T165335
CREATED:20240420T032645Z
LAST-MODIFIED:20240420T032645Z
UID:84666-1714899600-1714946400@dishingjh.com
SUMMARY:Cinco de Mayo Sale at The Liquor Store Jackson Hole
DESCRIPTION:Mark your calendars for TLS Cinco de Mayo sale on\, you guessed it\, the Cinco de Mayo! Save 15% on tequila\, mezcal\, and margarita merchandise on Sunday\, May 5th at The Liquor Store of Jackson Hole.
URL:https://dishingjh.com/event/cinco-de-mayo-sale-at-the-liquor-store-jackson-hole/
LOCATION:The Liquor Store Jackson Hole\, 115 Buffalo Way\, Jackson\, 83001\, United States
CATEGORIES:Special Events
ORGANIZER;CN="The Liquor Store Jackson Hole":MAILTO:info@wineliquorbeer.com
END:VEVENT
BEGIN:VEVENT
DTSTART;TZID=America/Denver:20240419T090000
DTEND;TZID=America/Denver:20240419T220000
DTSTAMP:20260425T165335
CREATED:20240420T032321Z
LAST-MODIFIED:20240420T032321Z
UID:84664-1713517200-1713564000@dishingjh.com
SUMMARY:National Amaretto Day Sale at The Liquor Store Jackson Hole
DESCRIPTION:Save up to 15% off amaretto and select cream liqueurs Friday\, April 19th both online and in-store at The Liquor Store of Jackson Hole! What is amaretto? Amaretto is a sweet Italian liqueur that has an almond-like flavor.
URL:https://dishingjh.com/event/national-amaretto-day-sale-at-the-liquor-store-jackson-hole/
LOCATION:The Liquor Store Jackson Hole\, 115 Buffalo Way\, Jackson\, 83001\, United States
CATEGORIES:Special Events
ORGANIZER;CN="The Liquor Store Jackson Hole":MAILTO:info@wineliquorbeer.com
END:VEVENT
BEGIN:VEVENT
DTSTART;TZID=America/Denver:20240223T090000
DTEND;TZID=America/Denver:20240223T220000
DTSTAMP:20260425T165335
CREATED:20240222T020120Z
LAST-MODIFIED:20240222T020120Z
UID:84200-1708678800-1708725600@dishingjh.com
SUMMARY:The Liquor Store and Wine Loft National Bartender Day Sale
DESCRIPTION:In celebration of National Bartender Day\, TLS is offering 20% off select alcoholic spirits February 23-29 and 20% off all bartending merchandise\, such as olives\, cherries\, jiggers\, shakers\, glassware and more\, from February 23-24.
URL:https://dishingjh.com/event/the-liquor-store-and-wine-loft-national-bartender-day-sale/2024-02-23/
LOCATION:The Liquor Store Jackson Hole\, 115 Buffalo Way\, Jackson\, 83001\, United States
CATEGORIES:Special Events
ORGANIZER;CN="The Liquor Store Jackson Hole":MAILTO:info@wineliquorbeer.com
END:VEVENT
BEGIN:VEVENT
DTSTART;TZID=America/Denver:20240222T150000
DTEND;TZID=America/Denver:20240222T170000
DTSTAMP:20260425T165335
CREATED:20240222T015539Z
LAST-MODIFIED:20240222T015539Z
UID:84198-1708614000-1708621200@dishingjh.com
SUMMARY:Wine and a Good Read at The Liquor Store and Wine Loft
DESCRIPTION:Join for a book signing with winemaker and author\, Alex Gambal! \nOne the Best Wine Books of 2023\, according to the Wall Street Journal\, the New York Times\, and the Washington Post\, Climbing the Vines in Burgundy is a sensory experience\, a touching family memoir\, and an accessible\, incredibly detailed look at the worlds of gastronomy and enology from a business perspective. Told in a uniquely American voice\, Gambal’s book is populated with fascinating characters\, stunning locales\, and delectable depictions of meals and glass after glass after glass of wine.
URL:https://dishingjh.com/event/wine-and-a-good-read-at-the-liquor-store-and-wine-loft/
LOCATION:The Liquor Store Jackson Hole\, 115 Buffalo Way\, Jackson\, 83001\, United States
CATEGORIES:Special Events
ORGANIZER;CN="The Liquor Store Jackson Hole":MAILTO:info@wineliquorbeer.com
END:VEVENT
BEGIN:VEVENT
DTSTART;TZID=America/Denver:20240222T090000
DTEND;TZID=America/Denver:20240222T220000
DTSTAMP:20260425T165335
CREATED:20240222T015126Z
LAST-MODIFIED:20240222T015126Z
UID:84195-1708592400-1708639200@dishingjh.com
SUMMARY:The Liquor & Wine Loft National Margarita Day Sale
DESCRIPTION:Live la vida loca by saving 15% on tequila and mezcal in-store and online at TLS. While you’re at it\, saving 20% stocking up on margarita supplies\, such as margarita mix\, salt\, shakers\, and more.
URL:https://dishingjh.com/event/the-liquor-wine-loft-national-margarita-day-sale/
LOCATION:The Liquor Store Jackson Hole\, 115 Buffalo Way\, Jackson\, 83001\, United States
CATEGORIES:Special Events
ORGANIZER;CN="The Liquor Store Jackson Hole":MAILTO:info@wineliquorbeer.com
END:VEVENT
BEGIN:VEVENT
DTSTART;TZID=America/Denver:20240113T120000
DTEND;TZID=America/Denver:20240113T150000
DTSTAMP:20260425T165335
CREATED:20240104T230617Z
LAST-MODIFIED:20240104T230617Z
UID:83768-1705147200-1705158000@dishingjh.com
SUMMARY:In-Store Tasting at The Liquor Store Jackson Hole
DESCRIPTION:In-store tasting of all of your favorites: Teatonic\, Holidaily\, and New Planet Gluten-free beer and kombucha.
URL:https://dishingjh.com/event/in-store-tasting-at-the-liquor-store-jackson-hole/
LOCATION:The Liquor Store Jackson Hole\, 115 Buffalo Way\, Jackson\, 83001\, United States
CATEGORIES:Special Events
END:VEVENT
END:VCALENDAR