BEGIN:VCALENDAR
VERSION:2.0
PRODID:-//Jackson Hole Restaurants - ECPv6.15.20//NONSGML v1.0//EN
CALSCALE:GREGORIAN
METHOD:PUBLISH
X-ORIGINAL-URL:https://dishingjh.com
X-WR-CALDESC:Events for Jackson Hole Restaurants
REFRESH-INTERVAL;VALUE=DURATION:PT1H
X-Robots-Tag:noindex
X-PUBLISHED-TTL:PT1H
BEGIN:VTIMEZONE
TZID:America/Denver
BEGIN:DAYLIGHT
TZOFFSETFROM:-0700
TZOFFSETTO:-0600
TZNAME:MDT
DTSTART:20230312T090000
END:DAYLIGHT
BEGIN:STANDARD
TZOFFSETFROM:-0600
TZOFFSETTO:-0700
TZNAME:MST
DTSTART:20231105T080000
END:STANDARD
BEGIN:DAYLIGHT
TZOFFSETFROM:-0700
TZOFFSETTO:-0600
TZNAME:MDT
DTSTART:20240310T090000
END:DAYLIGHT
BEGIN:STANDARD
TZOFFSETFROM:-0600
TZOFFSETTO:-0700
TZNAME:MST
DTSTART:20241103T080000
END:STANDARD
BEGIN:DAYLIGHT
TZOFFSETFROM:-0700
TZOFFSETTO:-0600
TZNAME:MDT
DTSTART:20250309T090000
END:DAYLIGHT
BEGIN:STANDARD
TZOFFSETFROM:-0600
TZOFFSETTO:-0700
TZNAME:MST
DTSTART:20251102T080000
END:STANDARD
END:VTIMEZONE
BEGIN:VEVENT
DTSTART;TZID=America/Denver:20240124T160000
DTEND;TZID=America/Denver:20240124T180000
DTSTAMP:20260425T081602
CREATED:20240118T223633Z
LAST-MODIFIED:20240118T223633Z
UID:83836-1706112000-1706119200@dishingjh.com
SUMMARY:Orgeat Cocktail Tasting at Pearl Street Market
DESCRIPTION:Orgeat cocktail tasting series at Pearl Street Market on 1/24 (gin)\, 1/31 (vodka)\, & 2/7 (rum). Open to the public\, and including a 15% discount on featured liquors and syrups.
URL:https://dishingjh.com/event/orgeat-cocktail-tasting-at-pearl-street-market/
LOCATION:Pearl Street Market\, 40 W Pearl Ave\, Jackson\, 83001\, United States
CATEGORIES:Special Events
END:VEVENT
END:VCALENDAR