BEGIN:VCALENDAR
VERSION:2.0
PRODID:-//Jackson Hole Restaurants - ECPv6.15.20//NONSGML v1.0//EN
CALSCALE:GREGORIAN
METHOD:PUBLISH
X-ORIGINAL-URL:https://dishingjh.com
X-WR-CALDESC:Events for Jackson Hole Restaurants
REFRESH-INTERVAL;VALUE=DURATION:PT1H
X-Robots-Tag:noindex
X-PUBLISHED-TTL:PT1H
BEGIN:VTIMEZONE
TZID:America/Denver
BEGIN:DAYLIGHT
TZOFFSETFROM:-0700
TZOFFSETTO:-0600
TZNAME:MDT
DTSTART:20250309T090000
END:DAYLIGHT
BEGIN:STANDARD
TZOFFSETFROM:-0600
TZOFFSETTO:-0700
TZNAME:MST
DTSTART:20251102T080000
END:STANDARD
BEGIN:DAYLIGHT
TZOFFSETFROM:-0700
TZOFFSETTO:-0600
TZNAME:MDT
DTSTART:20260308T090000
END:DAYLIGHT
BEGIN:STANDARD
TZOFFSETFROM:-0600
TZOFFSETTO:-0700
TZNAME:MST
DTSTART:20261101T080000
END:STANDARD
BEGIN:DAYLIGHT
TZOFFSETFROM:-0700
TZOFFSETTO:-0600
TZNAME:MDT
DTSTART:20270314T090000
END:DAYLIGHT
BEGIN:STANDARD
TZOFFSETFROM:-0600
TZOFFSETTO:-0700
TZNAME:MST
DTSTART:20271107T080000
END:STANDARD
END:VTIMEZONE
BEGIN:VEVENT
DTSTART;TZID=America/Denver:20260412T150000
DTEND;TZID=America/Denver:20260412T180000
DTSTAMP:20260425T175707
CREATED:20260316T233800Z
LAST-MODIFIED:20260316T233800Z
UID:91595-1776006000-1776016800@dishingjh.com
SUMMARY:Apres with DJ Scutty at Tram Dock at JHMR
DESCRIPTION:Close out an epic day on the slopes with the ultimate après ski experience at Tram Dock! As the lifts stop spinning\, the party kicks off with a talented DJ to keep the great vibes going all season long. With tasty food\, craft drinks\, live music\, and a vibrant community\, there’s something for everyone at Jackson Hole’s favorite après spot. \nDJ Scutty will kick the weekend off with house beats galore. Make sure you save some gas in the tank and keep those legs fresh for the dance floor. DJ Scutty is a staple in the Teton Village DJ scene\, so you will probably recognize him from his shows under the tram or at the top of Bridger Gondola.
URL:https://dishingjh.com/event/apres-with-dj-scutty-at-tram-dock-at-jhmr/
LOCATION:Jackson Hole Mountain Resort\, Teton Village\, WY\, 83025\, United States
CATEGORIES:Special Events
GEO:43.5873149;-110.8269876
END:VEVENT
BEGIN:VEVENT
DTSTART;TZID=America/Denver:20260412T093000
DTEND;TZID=America/Denver:20260412T103000
DTSTAMP:20260425T175707
CREATED:20260316T225508Z
LAST-MODIFIED:20260316T225508Z
UID:91548-1775986200-1775989800@dishingjh.com
SUMMARY:Worship on the Moutain at JHMR
DESCRIPTION:Join JHMR for a weekly interdenominational worship service at Rendezvous Lodge throughout the winter season. Everyone is welcome! If you’d like to attend without ski/snowboard gear\, complimentary Gondola tickets will be available at the Guest Service Center underneath the Tram. The service begins at 9:30 am and those joining should plan on loading the Bridger Gondola just after 9 am to arrive promptly. Those with ski passes will not need to stop at the Guest Service Center. \nMore information 
URL:https://dishingjh.com/event/worship-on-the-moutain-at-jhmr/2026-04-12/
LOCATION:Jackson Hole Mountain Resort\, Teton Village\, WY\, 83025\, United States
CATEGORIES:Special Events
GEO:43.5873149;-110.8269876
END:VEVENT
BEGIN:VEVENT
DTSTART;TZID=America/Denver:20260411T120000
DTEND;TZID=America/Denver:20260411T150000
DTSTAMP:20260425T175707
CREATED:20260316T231217Z
LAST-MODIFIED:20260316T231217Z
UID:91569-1775908800-1775919600@dishingjh.com
SUMMARY:Live DJ Set at Casper Beach at JHMR
DESCRIPTION:Grab a drink and come soak up the sun with a live DJ at Casper Beach every Saturday and Sunday!
URL:https://dishingjh.com/event/live-dj-set-at-casper-beach-at-jhmr/2026-04-11/
LOCATION:Jackson Hole Mountain Resort\, Teton Village\, WY\, 83025\, United States
CATEGORIES:Live Music,Special Events
GEO:43.5873149;-110.8269876
END:VEVENT
BEGIN:VEVENT
DTSTART;TZID=America/Denver:20260411T120000
DTEND;TZID=America/Denver:20260411T150000
DTSTAMP:20260425T175707
CREATED:20260316T224944Z
LAST-MODIFIED:20260316T231017Z
UID:91541-1775908800-1775919600@dishingjh.com
SUMMARY:Live music on Trapper's Deck at JHMR
DESCRIPTION:Enjoy live music\, delicious food\, and craft drinks on the sun-soaked deck at Trapper’s Restaurant. \nTrapper’s restaurant is located at Solitude Station\, the Sweetwater Gondola’s midway station. \nOutdoor live music is weather dependent.
URL:https://dishingjh.com/event/joe-hunt-live-on-trappers-deck-at-jhmr/2026-04-11/
LOCATION:Jackson Hole Mountain Resort\, Teton Village\, WY\, 83025\, United States
CATEGORIES:Live Music
GEO:43.5873149;-110.8269876
END:VEVENT
BEGIN:VEVENT
DTSTART;TZID=America/Denver:20260411T030000
DTEND;TZID=America/Denver:20260411T180000
DTSTAMP:20260425T175707
CREATED:20260316T233644Z
LAST-MODIFIED:20260316T233644Z
UID:91593-1775876400-1775930400@dishingjh.com
SUMMARY:Apres with KHOL DJ P and Paul at Tram Dock at JHMR
DESCRIPTION:Close out an epic day on the slopes with the ultimate après ski experience at Tram Dock! As the lifts stop spinning\, the party kicks off with a talented DJ to keep the great vibes going all season long. With tasty food\, craft drinks\, live music\, and a vibrant community\, there’s something for everyone at Jackson Hole’s favorite après spot. \n\nKHOL presents DJ P and Paul\, inviting you to take a dip in The Fondue as they turn up the heat and melt down a variety of musical tastes\, ranging in flavor from vinyl classics to new age funk. Dip your ears in this fire; this cheese is delicious! KHOL is Jackson’s community radio station\, offering music discovery and programming from the most in demand selectors\, only on 89.1 FM and KHOL’s public media app.
URL:https://dishingjh.com/event/apres-with-khol-dj-p-and-paul-at-tram-dock-at-jhmr/
LOCATION:Jackson Hole Mountain Resort\, Teton Village\, WY\, 83025\, United States
CATEGORIES:Special Events
GEO:43.5873149;-110.8269876
END:VEVENT
BEGIN:VEVENT
DTSTART;TZID=America/Denver:20260410T143000
DTEND;TZID=America/Denver:20260410T180000
DTSTAMP:20260425T175707
CREATED:20260316T233300Z
LAST-MODIFIED:20260316T233300Z
UID:91591-1775831400-1775844000@dishingjh.com
SUMMARY:Apres DJ Set with DJ Scutty at Tram Docks at JHMR
DESCRIPTION:Close out an epic day on the slopes with the ultimate après ski experience at Tram Dock! As the lifts stop spinning\, the party kicks off with a talented DJ to keep the great vibes going all season long. With tasty food\, craft drinks\, live music\, and a vibrant community\, there’s something for everyone at Jackson Hole’s favorite après spot. \nDJ Scutty will kick the weekend off with house beats galore. Make sure you save some gas in the tank and keep those legs fresh for the dance floor. DJ Scutty is a staple in the Teton Village DJ scene\, so you will probably recognize him from his shows under the tram or at the top of Bridger Gondola.
URL:https://dishingjh.com/event/apres-dj-set-with-dj-scutty-at-tram-docks-at-jhmr/
LOCATION:Jackson Hole Mountain Resort\, Teton Village\, WY\, 83025\, United States
CATEGORIES:Special Events
GEO:43.5873149;-110.8269876
END:VEVENT
BEGIN:VEVENT
DTSTART;TZID=America/Denver:20260405T150000
DTEND;TZID=America/Denver:20260405T180000
DTSTAMP:20260425T175707
CREATED:20260316T233126Z
LAST-MODIFIED:20260316T233126Z
UID:91589-1775401200-1775412000@dishingjh.com
SUMMARY:Apres DJ Set with DJ Will G at Tram Dock at JHMR
DESCRIPTION:Close out an epic day on the slopes with the ultimate après ski experience at Tram Dock! As the lifts stop spinning\, the party kicks off with a talented DJ to keep the great vibes going all season long. With tasty food\, craft drinks\, live music\, and a vibrant community\, there’s something for everyone at Jackson Hole’s favorite après spot. \n\n\nWill G. is a highly talented and passionate DJ and musician hailing from Reidsville\, NC\, who began his incredible musical journey at the remarkably young age of two. Deeply inspired by legendary icons such as DJ Jazzy Jeff\, Frank Sinatra\, James Brown\, Quincy Jones\, Michael Jackson\, and Prince\, he has skillfully crafted a distinctive and unique sound that beautifully bridges the gap between the past and the present. \nAs an esteemed member of the Recording Academy\, Will has successfully established himself not only as a creative artist but also as a savvy entrepreneur\, dedicated promoter\, skilled sound engineer\, and a former bar owner. \nWidely renowned for his exceptional skills on the turntables\, he expertly curates an eclectic and dynamic mix of music spanning multiple genres\, paying heartfelt tribute to the timeless legends of yesterday and today while continuously captivating and energizing audiences with his infectious passion and boundless creativity. \nYou can easily follow and connect with Will G. on all social media handles @djwillg_.
URL:https://dishingjh.com/event/apres-dj-set-with-dj-will-g-at-tram-dock-at-jhmr/
LOCATION:Jackson Hole Mountain Resort\, Teton Village\, WY\, 83025\, United States
CATEGORIES:Special Events
GEO:43.5873149;-110.8269876
END:VEVENT
BEGIN:VEVENT
DTSTART;TZID=America/Denver:20260405T093000
DTEND;TZID=America/Denver:20260405T103000
DTSTAMP:20260425T175707
CREATED:20260316T225508Z
LAST-MODIFIED:20260316T225508Z
UID:91547-1775381400-1775385000@dishingjh.com
SUMMARY:Worship on the Moutain at JHMR
DESCRIPTION:Join JHMR for a weekly interdenominational worship service at Rendezvous Lodge throughout the winter season. Everyone is welcome! If you’d like to attend without ski/snowboard gear\, complimentary Gondola tickets will be available at the Guest Service Center underneath the Tram. The service begins at 9:30 am and those joining should plan on loading the Bridger Gondola just after 9 am to arrive promptly. Those with ski passes will not need to stop at the Guest Service Center. \nMore information 
URL:https://dishingjh.com/event/worship-on-the-moutain-at-jhmr/2026-04-05/
LOCATION:Jackson Hole Mountain Resort\, Teton Village\, WY\, 83025\, United States
CATEGORIES:Special Events
GEO:43.5873149;-110.8269876
END:VEVENT
BEGIN:VEVENT
DTSTART;TZID=America/Denver:20260405T063000
DTEND;TZID=America/Denver:20260405T070000
DTSTAMP:20260425T175707
CREATED:20260316T232707Z
LAST-MODIFIED:20260316T232707Z
UID:91587-1775370600-1775372400@dishingjh.com
SUMMARY:Easter Sunrise Service at Top of Bridger Gondola at JHMR
DESCRIPTION:Join us for our Easter Sunrise Service outside Rendezvous Lodge at the summit of the Bridger Gondola at 6:30 am (begin loading the gondola at 6 am). Everyone is welcome and the gondola ride is free! Ski gear will not be allowed on the gondola and everyone must ride down the gondola after the service. The service will be over by 7 am. Dress for the cold! \nMore information
URL:https://dishingjh.com/event/easter-sunrise-service-at-top-of-bridger-gondola-at-jhmr/
LOCATION:Jackson Hole Mountain Resort\, Teton Village\, WY\, 83025\, United States
CATEGORIES:Special Events
GEO:43.5873149;-110.8269876
END:VEVENT
BEGIN:VEVENT
DTSTART;TZID=America/Denver:20260404T150000
DTEND;TZID=America/Denver:20260404T180000
DTSTAMP:20260425T175707
CREATED:20260316T232518Z
LAST-MODIFIED:20260316T232518Z
UID:91585-1775314800-1775325600@dishingjh.com
SUMMARY:Apres DJ Set with DJ Chuck Samples at Tram Dock
DESCRIPTION:Close out an epic day on the slopes with the ultimate après ski experience at Tram Dock! As the lifts stop spinning\, the party kicks off with a talented DJ to keep the great vibes going all season long. With tasty food\, craft drinks\, live music\, and a vibrant community\, there’s something for everyone at Jackson Hole’s favorite après spot. \nChuck Samples is a local musician and DJ based in Jackson\, WY. His musical journey began behind a piano performing with local bands and honing a feel for live dynamic energy. Bringing that experience into the DJ booth\, Chuck Samples crafts infectious blends of house\, disco\, and techno music. Known for weaving live synth into the performance\, Chuck Samples bridges the spontaneity of live performance with the drive of the dance floor creating sets that are both soulful and electrifying.
URL:https://dishingjh.com/event/apres-dj-set-with-dj-chuck-samples-at-tram-dock/
LOCATION:Jackson Hole Mountain Resort\, Teton Village\, WY\, 83025\, United States
CATEGORIES:Special Events
GEO:43.5873149;-110.8269876
END:VEVENT
BEGIN:VEVENT
DTSTART;TZID=America/Denver:20260404T120000
DTEND;TZID=America/Denver:20260404T150000
DTSTAMP:20260425T175707
CREATED:20260316T231217Z
LAST-MODIFIED:20260316T231217Z
UID:91568-1775304000-1775314800@dishingjh.com
SUMMARY:Live DJ Set at Casper Beach at JHMR
DESCRIPTION:Grab a drink and come soak up the sun with a live DJ at Casper Beach every Saturday and Sunday!
URL:https://dishingjh.com/event/live-dj-set-at-casper-beach-at-jhmr/2026-04-04/
LOCATION:Jackson Hole Mountain Resort\, Teton Village\, WY\, 83025\, United States
CATEGORIES:Live Music,Special Events
GEO:43.5873149;-110.8269876
END:VEVENT
BEGIN:VEVENT
DTSTART;TZID=America/Denver:20260404T120000
DTEND;TZID=America/Denver:20260404T150000
DTSTAMP:20260425T175707
CREATED:20260316T224944Z
LAST-MODIFIED:20260316T231017Z
UID:91540-1775304000-1775314800@dishingjh.com
SUMMARY:Live music on Trapper's Deck at JHMR
DESCRIPTION:Enjoy live music\, delicious food\, and craft drinks on the sun-soaked deck at Trapper’s Restaurant. \nTrapper’s restaurant is located at Solitude Station\, the Sweetwater Gondola’s midway station. \nOutdoor live music is weather dependent.
URL:https://dishingjh.com/event/joe-hunt-live-on-trappers-deck-at-jhmr/2026-04-04/
LOCATION:Jackson Hole Mountain Resort\, Teton Village\, WY\, 83025\, United States
CATEGORIES:Live Music
GEO:43.5873149;-110.8269876
END:VEVENT
BEGIN:VEVENT
DTSTART;TZID=America/Denver:20260403T150000
DTEND;TZID=America/Denver:20260403T180000
DTSTAMP:20260425T175707
CREATED:20260316T232254Z
LAST-MODIFIED:20260316T232254Z
UID:91582-1775228400-1775239200@dishingjh.com
SUMMARY:Apres DJ Set with DJ Scutty at Tram Dock at JHMR
DESCRIPTION:Close out an epic day on the slopes with the ultimate après ski experience at Tram Dock! As the lifts stop spinning\, the party kicks off with a talented DJ to keep the great vibes going all season long. With tasty food\, craft drinks\, live music\, and a vibrant community\, there’s something for everyone at Jackson Hole’s favorite après spot. \nDJ Scutty will kick the weekend off with house beats galore. Make sure you save some gas in the tank and keep those legs fresh for the dance floor. DJ Scutty is a staple in the Teton Village DJ scene\, so you will probably recognize him from his shows under the tram or at the top of Bridger Gondola.
URL:https://dishingjh.com/event/apres-dj-set-with-dj-scutty-at-tram-dock-at-jhmr/
LOCATION:Jackson Hole Mountain Resort\, Teton Village\, WY\, 83025\, United States
CATEGORIES:Special Events
GEO:43.5873149;-110.8269876
END:VEVENT
BEGIN:VEVENT
DTSTART;TZID=America/Denver:20260401T150000
DTEND;TZID=America/Denver:20260401T180000
DTSTAMP:20260425T175707
CREATED:20260316T232115Z
LAST-MODIFIED:20260316T232115Z
UID:91580-1775055600-1775066400@dishingjh.com
SUMMARY:Apres DJ Set with Cam Rood at Tram Dock at JHMR
DESCRIPTION:Close out an epic day on the slopes with the ultimate après ski experience at Tram Dock! As the lifts stop spinning\, the party kicks off with a talented DJ to keep the great vibes going all season long. With tasty food\, craft drinks\, live music\, and a vibrant community\, there’s something for everyone at Jackson Hole’s favorite après spot.
URL:https://dishingjh.com/event/apres-dj-set-with-cam-rood-at-tram-dock-at-jhmr/
LOCATION:Jackson Hole Mountain Resort\, Teton Village\, WY\, 83025\, United States
CATEGORIES:Special Events
GEO:43.5873149;-110.8269876
END:VEVENT
BEGIN:VEVENT
DTSTART;TZID=America/Denver:20260401T120000
DTEND;TZID=America/Denver:20260401T150000
DTSTAMP:20260425T175707
CREATED:20260316T231941Z
LAST-MODIFIED:20260316T231941Z
UID:91578-1775044800-1775055600@dishingjh.com
SUMMARY:VaMoose at Tram Dock at JHMR
DESCRIPTION:Grab a drink and come soak up the sun with VaMoose playing live at Tram Dock
URL:https://dishingjh.com/event/vamoose-at-tram-dock-at-jhmr/
LOCATION:Jackson Hole Mountain Resort\, Teton Village\, WY\, 83025\, United States
CATEGORIES:Special Events
GEO:43.5873149;-110.8269876
END:VEVENT
BEGIN:VEVENT
DTSTART;TZID=America/Denver:20260329T150000
DTEND;TZID=America/Denver:20260329T180000
DTSTAMP:20260425T175707
CREATED:20260316T231820Z
LAST-MODIFIED:20260316T231820Z
UID:91576-1774796400-1774807200@dishingjh.com
SUMMARY:Apres DJ Set with DJ P-Tex at Tram Dock at JHMR
DESCRIPTION:Close out an epic day on the slopes with the ultimate après ski experience at Tram Dock! As the lifts stop spinning\, the party kicks off with a talented DJ to keep the great vibes going all season long. With tasty food\, craft drinks\, live music\, and a vibrant community\, there’s something for everyone at Jackson Hole’s favorite après spot. \nDJ P-Tex has been shredding JHMR since before he could walk. His musical experience started with jazz and blues and has grown into an appreciation for all genres and anything that can make a room dance.\nAs a long time participant he is stoked to bring a unique flavor to the JHMR Aprés scene. Get ready to boogie with curated beats guaranteed to help you dance off your ski legs.
URL:https://dishingjh.com/event/apres-dj-set-with-dj-p-tex-at-tram-dock-at-jhmr/
LOCATION:Jackson Hole Mountain Resort\, Teton Village\, WY\, 83025\, United States
CATEGORIES:Special Events
GEO:43.5873149;-110.8269876
END:VEVENT
BEGIN:VEVENT
DTSTART;TZID=America/Denver:20260329T103000
DTEND;TZID=America/Denver:20260329T150000
DTSTAMP:20260425T175707
CREATED:20260316T230807Z
LAST-MODIFIED:20260316T230807Z
UID:91560-1774780200-1774796400@dishingjh.com
SUMMARY:Free Fresca Samples at Cafe 6311 at JHMR
DESCRIPTION:Swing by the Fresca tent on Friday\, March 27 and Sunday\, March 29 for some FREE samples of different Fresca flavors!
URL:https://dishingjh.com/event/free-fresca-samples-at-cafe-6311-at-jhmr/
LOCATION:Jackson Hole Mountain Resort\, Teton Village\, WY\, 83025\, United States
CATEGORIES:Special Events
GEO:43.5873149;-110.8269876
END:VEVENT
BEGIN:VEVENT
DTSTART;TZID=America/Denver:20260329T093000
DTEND;TZID=America/Denver:20260329T103000
DTSTAMP:20260425T175707
CREATED:20260316T225508Z
LAST-MODIFIED:20260316T225508Z
UID:91546-1774776600-1774780200@dishingjh.com
SUMMARY:Worship on the Moutain at JHMR
DESCRIPTION:Join JHMR for a weekly interdenominational worship service at Rendezvous Lodge throughout the winter season. Everyone is welcome! If you’d like to attend without ski/snowboard gear\, complimentary Gondola tickets will be available at the Guest Service Center underneath the Tram. The service begins at 9:30 am and those joining should plan on loading the Bridger Gondola just after 9 am to arrive promptly. Those with ski passes will not need to stop at the Guest Service Center. \nMore information 
URL:https://dishingjh.com/event/worship-on-the-moutain-at-jhmr/2026-03-29/
LOCATION:Jackson Hole Mountain Resort\, Teton Village\, WY\, 83025\, United States
CATEGORIES:Special Events
GEO:43.5873149;-110.8269876
END:VEVENT
BEGIN:VEVENT
DTSTART;TZID=America/Denver:20260328T160000
DTEND;TZID=America/Denver:20260328T220000
DTSTAMP:20260425T175707
CREATED:20260316T224507Z
LAST-MODIFIED:20260316T224507Z
UID:91536-1774713600-1774735200@dishingjh.com
SUMMARY:Rendezvous Festival at JHMR
DESCRIPTION:The Flaming Lips bring a Grammy-winning\, immersive performance to our unforgettable venue at the base of the Tetons\, supported by the jam-band mastery of Umphrey’s McGee and a high-energy kickoff from DJ Blake Horstmann. It’s the perfect way to close out our 60th ski season. \nKick off the weekend early on Friday\, March 27\, by skiing straight to a free Souls of Mischief concert under the Tram as they cap off our Road to Rendezvous music series the night before the festival. \nNEW! Kids attend free — bring two children under 12 with GA or one child under 5 with VIP (per ticketed adult). \nBuy GA Tickets \nBuy VIP Tickets
URL:https://dishingjh.com/event/rendezvous-festival-at-jhmr/
LOCATION:Jackson Hole Mountain Resort\, Teton Village\, WY\, 83025\, United States
CATEGORIES:Live Music
GEO:43.5873149;-110.8269876
END:VEVENT
BEGIN:VEVENT
DTSTART;TZID=America/Denver:20260328T120000
DTEND;TZID=America/Denver:20260328T150000
DTSTAMP:20260425T175707
CREATED:20260316T231217Z
LAST-MODIFIED:20260316T231217Z
UID:91567-1774699200-1774710000@dishingjh.com
SUMMARY:Live DJ Set at Casper Beach at JHMR
DESCRIPTION:Grab a drink and come soak up the sun with a live DJ at Casper Beach every Saturday and Sunday!
URL:https://dishingjh.com/event/live-dj-set-at-casper-beach-at-jhmr/2026-03-28/
LOCATION:Jackson Hole Mountain Resort\, Teton Village\, WY\, 83025\, United States
CATEGORIES:Live Music,Special Events
GEO:43.5873149;-110.8269876
END:VEVENT
BEGIN:VEVENT
DTSTART;TZID=America/Denver:20260328T120000
DTEND;TZID=America/Denver:20260328T150000
DTSTAMP:20260425T175707
CREATED:20260316T224944Z
LAST-MODIFIED:20260316T231016Z
UID:91539-1774699200-1774710000@dishingjh.com
SUMMARY:Live music on Trapper's Deck at JHMR
DESCRIPTION:Enjoy live music\, delicious food\, and craft drinks on the sun-soaked deck at Trapper’s Restaurant. \nTrapper’s restaurant is located at Solitude Station\, the Sweetwater Gondola’s midway station. \nOutdoor live music is weather dependent.
URL:https://dishingjh.com/event/joe-hunt-live-on-trappers-deck-at-jhmr/2026-03-28/
LOCATION:Jackson Hole Mountain Resort\, Teton Village\, WY\, 83025\, United States
CATEGORIES:Live Music
GEO:43.5873149;-110.8269876
END:VEVENT
BEGIN:VEVENT
DTSTART;TZID=America/Denver:20260327T150000
DTEND;TZID=America/Denver:20260327T170000
DTSTAMP:20260425T175707
CREATED:20260316T224120Z
LAST-MODIFIED:20260316T224120Z
UID:91534-1774623600-1774630800@dishingjh.com
SUMMARY:Souls of Mischief at Base of JHMR tram
DESCRIPTION:Friday\, March 27 @ 3 pm – Rendezvous Weekend\n  \n\nNo need to hop in the time machine—Souls of Mischief are bringing golden-era hip hop to close out Road to Rendezvous. This iconic crew gave us timeless classics like ‘93 ‘til Infinity’ and helped define the sound of an era. This isn’t just a themed show—it’s the era itself\, live and loud.
URL:https://dishingjh.com/event/souls-of-mischief-at-base-of-jhmr-tram/
LOCATION:Jackson Hole Mountain Resort\, Teton Village\, WY\, 83025\, United States
CATEGORIES:Live Music
GEO:43.5873149;-110.8269876
END:VEVENT
BEGIN:VEVENT
DTSTART;TZID=America/Denver:20260327T113000
DTEND;TZID=America/Denver:20260327T150000
DTSTAMP:20260425T175707
CREATED:20260316T230416Z
LAST-MODIFIED:20260316T230416Z
UID:91556-1774611000-1774623600@dishingjh.com
SUMMARY:White Claw Takeover on Casper Beach at JHMR
DESCRIPTION:Join JHMR at Casper Beach for a White Claw takeover with good vibes\, giveaways\, and ice?cold drinks.
URL:https://dishingjh.com/event/white-claw-takeover-on-casper-beach-at-jhmr/
LOCATION:Jackson Hole Mountain Resort\, Teton Village\, WY\, 83025\, United States
CATEGORIES:Special Events
GEO:43.5873149;-110.8269876
END:VEVENT
BEGIN:VEVENT
DTSTART;TZID=America/Denver:20260327T100000
DTEND;TZID=America/Denver:20260327T150000
DTSTAMP:20260425T175707
CREATED:20260316T230710Z
LAST-MODIFIED:20260316T230710Z
UID:91558-1774605600-1774623600@dishingjh.com
SUMMARY:Free Samples with Fresca at Cafe 6311 at JHMR
DESCRIPTION:Swing by the Fresca tent on Friday\, March 27 and Sunday\, March 29 for some FREE samples of different Fresca flavors!
URL:https://dishingjh.com/event/free-samples-with-fresca-at-cafe-6311-at-jhmr/
LOCATION:Jackson Hole Mountain Resort\, Teton Village\, WY\, 83025\, United States
CATEGORIES:Special Events
GEO:43.5873149;-110.8269876
END:VEVENT
BEGIN:VEVENT
DTSTART;TZID=America/Denver:20260322T150000
DTEND;TZID=America/Denver:20260322T180000
DTSTAMP:20260425T175707
CREATED:20260316T230020Z
LAST-MODIFIED:20260316T230116Z
UID:91554-1774191600-1774202400@dishingjh.com
SUMMARY:Apres with KHOL DJ Oh! Nassi and San Danford at Tram Dock
DESCRIPTION:Close out an epic day on the slopes with the ultimate après ski experience at Tram Dock! As the lifts stop spinning\, the party kicks off with a talented DJ to keep the great vibes going all season long. With tasty food\, craft drinks\, live music\, and a vibrant community\, there’s something for everyone at Jackson Hole’s favorite après spot. \nKHOL presents OH!Nassi mixing iconic beats\, modern classics and undiscovered gems to keep you moving after a day out on the slopes. Known for his ability to play genre and tempo spanning sets\, OH!Nassi has garnered a loyal dancefloor following in the Tetons. KHOL is Jackson’s community radio station\, offering music discovery and programming from the most in demand selectors\, only on 89.1 FM and streaming on KHOL’s public media app.
URL:https://dishingjh.com/event/apres-with-khol-dj-oh-nassi-and-san-danford-at-tram-dock/
LOCATION:Jackson Hole Mountain Resort\, Teton Village\, WY\, 83025\, United States
CATEGORIES:Live Music
GEO:43.5873149;-110.8269876
END:VEVENT
BEGIN:VEVENT
DTSTART;TZID=America/Denver:20260322T120000
DTEND;TZID=America/Denver:20260322T150000
DTSTAMP:20260425T175707
CREATED:20260316T225808Z
LAST-MODIFIED:20260316T225808Z
UID:91552-1774180800-1774191600@dishingjh.com
SUMMARY:DJ Chuck Samples on the South Deck at JHMR
DESCRIPTION:Get ready for an unforgettable daytime party at the slopes! Join JHMR for for a DJ set filled with electrifying beats and good vibes. Soak up the sunshine\, enjoy the fresh mountain air\, and let the music keep you moving. \nRendezvous Alpine Kitchen is located at the top of Bridger Gondola.
URL:https://dishingjh.com/event/dj-chuck-samples-on-the-south-deck-at-jhmr/
LOCATION:Jackson Hole Mountain Resort\, Teton Village\, WY\, 83025\, United States
CATEGORIES:Live Music
GEO:43.5873149;-110.8269876
END:VEVENT
BEGIN:VEVENT
DTSTART;TZID=America/Denver:20260322T120000
DTEND;TZID=America/Denver:20260322T150000
DTSTAMP:20260425T175707
CREATED:20260316T225645Z
LAST-MODIFIED:20260316T225645Z
UID:91550-1774180800-1774191600@dishingjh.com
SUMMARY:Hot Snakes DJ Set at Casper Beach at JHMR
DESCRIPTION:Grab a drink and come soak up the sun with a live DJ at Casper Beach every Saturday and Sunday!
URL:https://dishingjh.com/event/hot-snakes-dj-set-at-casper-beach-at-jhmr/
LOCATION:Jackson Hole Mountain Resort\, Teton Village\, WY\, 83025\, United States
CATEGORIES:Live Music
GEO:43.5873149;-110.8269876
END:VEVENT
BEGIN:VEVENT
DTSTART;TZID=America/Denver:20260322T093000
DTEND;TZID=America/Denver:20260322T103000
DTSTAMP:20260425T175707
CREATED:20260316T225508Z
LAST-MODIFIED:20260316T225508Z
UID:91545-1774171800-1774175400@dishingjh.com
SUMMARY:Worship on the Moutain at JHMR
DESCRIPTION:Join JHMR for a weekly interdenominational worship service at Rendezvous Lodge throughout the winter season. Everyone is welcome! If you’d like to attend without ski/snowboard gear\, complimentary Gondola tickets will be available at the Guest Service Center underneath the Tram. The service begins at 9:30 am and those joining should plan on loading the Bridger Gondola just after 9 am to arrive promptly. Those with ski passes will not need to stop at the Guest Service Center. \nMore information 
URL:https://dishingjh.com/event/worship-on-the-moutain-at-jhmr/2026-03-22/
LOCATION:Jackson Hole Mountain Resort\, Teton Village\, WY\, 83025\, United States
CATEGORIES:Special Events
GEO:43.5873149;-110.8269876
END:VEVENT
BEGIN:VEVENT
DTSTART;TZID=America/Denver:20260321T150000
DTEND;TZID=America/Denver:20260321T170000
DTSTAMP:20260425T175707
CREATED:20260316T223941Z
LAST-MODIFIED:20260316T223941Z
UID:91532-1774105200-1774112400@dishingjh.com
SUMMARY:Not Green Day\, at Base of JHMR tram
DESCRIPTION:Saturday\, March 21 @ 3 pm\n\nNOT.GREENDAY is bringing the ultimate 90s vibe to Road to Rendezvous with a high-energy tribute to one of the era’s most iconic bands—Green Day. Get ready for punk-rock anthems\, rebellious riffs and all the nostalgia that made the 90s unforgettable
URL:https://dishingjh.com/event/not-green-day-at-base-of-jhmr-tram/
LOCATION:Jackson Hole Mountain Resort\, Teton Village\, WY\, 83025\, United States
CATEGORIES:Live Music
GEO:43.5873149;-110.8269876
END:VEVENT
BEGIN:VEVENT
DTSTART;TZID=America/Denver:20260321T120000
DTEND;TZID=America/Denver:20260321T150000
DTSTAMP:20260425T175707
CREATED:20260316T231217Z
LAST-MODIFIED:20260316T231217Z
UID:91566-1774094400-1774105200@dishingjh.com
SUMMARY:Live DJ Set at Casper Beach at JHMR
DESCRIPTION:Grab a drink and come soak up the sun with a live DJ at Casper Beach every Saturday and Sunday!
URL:https://dishingjh.com/event/live-dj-set-at-casper-beach-at-jhmr/2026-03-21/
LOCATION:Jackson Hole Mountain Resort\, Teton Village\, WY\, 83025\, United States
CATEGORIES:Live Music,Special Events
GEO:43.5873149;-110.8269876
END:VEVENT
END:VCALENDAR