BEGIN:VCALENDAR
VERSION:2.0
PRODID:-//Jackson Hole Restaurants - ECPv6.15.20//NONSGML v1.0//EN
CALSCALE:GREGORIAN
METHOD:PUBLISH
X-WR-CALNAME:Jackson Hole Restaurants
X-ORIGINAL-URL:https://dishingjh.com
X-WR-CALDESC:Events for Jackson Hole Restaurants
REFRESH-INTERVAL;VALUE=DURATION:PT1H
X-Robots-Tag:noindex
X-PUBLISHED-TTL:PT1H
BEGIN:VTIMEZONE
TZID:America/Denver
BEGIN:DAYLIGHT
TZOFFSETFROM:-0700
TZOFFSETTO:-0600
TZNAME:MDT
DTSTART:20230312T090000
END:DAYLIGHT
BEGIN:STANDARD
TZOFFSETFROM:-0600
TZOFFSETTO:-0700
TZNAME:MST
DTSTART:20231105T080000
END:STANDARD
BEGIN:DAYLIGHT
TZOFFSETFROM:-0700
TZOFFSETTO:-0600
TZNAME:MDT
DTSTART:20240310T090000
END:DAYLIGHT
BEGIN:STANDARD
TZOFFSETFROM:-0600
TZOFFSETTO:-0700
TZNAME:MST
DTSTART:20241103T080000
END:STANDARD
BEGIN:DAYLIGHT
TZOFFSETFROM:-0700
TZOFFSETTO:-0600
TZNAME:MDT
DTSTART:20250309T090000
END:DAYLIGHT
BEGIN:STANDARD
TZOFFSETFROM:-0600
TZOFFSETTO:-0700
TZNAME:MST
DTSTART:20251102T080000
END:STANDARD
END:VTIMEZONE
BEGIN:VEVENT
DTSTART;TZID=America/Denver:20240913T163000
DTEND;TZID=America/Denver:20240913T180000
DTSTAMP:20260425T210359
CREATED:20240913T202751Z
LAST-MODIFIED:20240913T202751Z
UID:86265-1726245000-1726250400@dishingjh.com
SUMMARY:Teton Slow Foods Kids Cooking Class STARTS
DESCRIPTION:Teton Slow Foods’ online cooking classes are back this fall for 3rd-9th graders! Join for an 8-week series with Ian McGregor starting Wednesday\, October 23rd. Cook seasonal\, delicious recipes from anywhere – home or away! Miss a class? We always send a recording. Teton area families get a local food box with their tuition and out-of-towners can join at a special rate!  \n  \nClasses are every Wednesday 10/23-12/18. \n  \nSign up online
URL:https://dishingjh.com/event/teton-slow-foods-kids-cooking-class-starts/2024-09-13/
LOCATION:On Zoom
END:VEVENT
END:VCALENDAR