BEGIN:VCALENDAR
VERSION:2.0
PRODID:-//Jackson Hole Restaurants - ECPv6.15.20//NONSGML v1.0//EN
CALSCALE:GREGORIAN
METHOD:PUBLISH
X-ORIGINAL-URL:https://dishingjh.com
X-WR-CALDESC:Events for Jackson Hole Restaurants
REFRESH-INTERVAL;VALUE=DURATION:PT1H
X-Robots-Tag:noindex
X-PUBLISHED-TTL:PT1H
BEGIN:VTIMEZONE
TZID:America/Denver
BEGIN:DAYLIGHT
TZOFFSETFROM:-0700
TZOFFSETTO:-0600
TZNAME:MDT
DTSTART:20230312T090000
END:DAYLIGHT
BEGIN:STANDARD
TZOFFSETFROM:-0600
TZOFFSETTO:-0700
TZNAME:MST
DTSTART:20231105T080000
END:STANDARD
BEGIN:DAYLIGHT
TZOFFSETFROM:-0700
TZOFFSETTO:-0600
TZNAME:MDT
DTSTART:20240310T090000
END:DAYLIGHT
BEGIN:STANDARD
TZOFFSETFROM:-0600
TZOFFSETTO:-0700
TZNAME:MST
DTSTART:20241103T080000
END:STANDARD
BEGIN:DAYLIGHT
TZOFFSETFROM:-0700
TZOFFSETTO:-0600
TZNAME:MDT
DTSTART:20250309T090000
END:DAYLIGHT
BEGIN:STANDARD
TZOFFSETFROM:-0600
TZOFFSETTO:-0700
TZNAME:MST
DTSTART:20251102T080000
END:STANDARD
END:VTIMEZONE
BEGIN:VEVENT
DTSTART;TZID=America/Denver:20240629T080000
DTEND;TZID=America/Denver:20240629T120000
DTSTAMP:20260425T145453
CREATED:20240428T015141Z
LAST-MODIFIED:20240428T015152Z
UID:84788-1719648000-1719662400@dishingjh.com
SUMMARY:Jackson Hole Farmers Market
DESCRIPTION:The Jackson Hole Farmers Market on the Town Square is a weekly community event supporting local and regional farmers and food vendors. \nFrom sweet goodies like cookies and pie\, to savory butcher cuts\, to crisp vine-picked vegetables\, to honey and flowers\, the Jackson Hole Farmers Market has everything you need for local produce and products.
URL:https://dishingjh.com/event/jackson-hole-farmers-market-4/2024-06-29/
LOCATION:Jackson Hole Town Square\, 10 E Broadway Ave\, Jackson\, WY\, 83001\, United States
CATEGORIES:Special Events
END:VEVENT
END:VCALENDAR