BEGIN:VCALENDAR
VERSION:2.0
PRODID:-//Jackson Hole Restaurants - ECPv6.15.20//NONSGML v1.0//EN
CALSCALE:GREGORIAN
METHOD:PUBLISH
X-WR-CALNAME:Jackson Hole Restaurants
X-ORIGINAL-URL:https://dishingjh.com
X-WR-CALDESC:Events for Jackson Hole Restaurants
REFRESH-INTERVAL;VALUE=DURATION:PT1H
X-Robots-Tag:noindex
X-PUBLISHED-TTL:PT1H
BEGIN:VTIMEZONE
TZID:America/Denver
BEGIN:DAYLIGHT
TZOFFSETFROM:-0700
TZOFFSETTO:-0600
TZNAME:MDT
DTSTART:20220313T090000
END:DAYLIGHT
BEGIN:STANDARD
TZOFFSETFROM:-0600
TZOFFSETTO:-0700
TZNAME:MST
DTSTART:20221106T080000
END:STANDARD
BEGIN:DAYLIGHT
TZOFFSETFROM:-0700
TZOFFSETTO:-0600
TZNAME:MDT
DTSTART:20230312T090000
END:DAYLIGHT
BEGIN:STANDARD
TZOFFSETFROM:-0600
TZOFFSETTO:-0700
TZNAME:MST
DTSTART:20231105T080000
END:STANDARD
BEGIN:DAYLIGHT
TZOFFSETFROM:-0700
TZOFFSETTO:-0600
TZNAME:MDT
DTSTART:20240310T090000
END:DAYLIGHT
BEGIN:STANDARD
TZOFFSETFROM:-0600
TZOFFSETTO:-0700
TZNAME:MST
DTSTART:20241103T080000
END:STANDARD
END:VTIMEZONE
BEGIN:VEVENT
DTSTART;TZID=America/Denver:20230627T170000
DTEND;TZID=America/Denver:20230627T210000
DTSTAMP:20260424T073312
CREATED:20230609T195720Z
LAST-MODIFIED:20230609T195720Z
UID:81422-1687885200-1687899600@dishingjh.com
SUMMARY:Grazing Rights // Midtown Tuesdays in Powderhorn Park
DESCRIPTION:FOOD TRUCKS @ Powderhorn Park \nJune 26-September 13 \nAll the events start at 5pm \nThe end time moves with the sunset and how much volume is happening
URL:https://dishingjh.com/event/grazing-rights-midtown-tuesdays-in-powderhorn-park/2023-06-27/
LOCATION:Jackson\, WY\, United States
GEO:43.0759678;-107.2902839
END:VEVENT
END:VCALENDAR