BEGIN:VCALENDAR
VERSION:2.0
PRODID:-//Jackson Hole Restaurants - ECPv6.15.20//NONSGML v1.0//EN
CALSCALE:GREGORIAN
METHOD:PUBLISH
X-WR-CALNAME:Jackson Hole Restaurants
X-ORIGINAL-URL:https://dishingjh.com
X-WR-CALDESC:Events for Jackson Hole Restaurants
REFRESH-INTERVAL;VALUE=DURATION:PT1H
X-Robots-Tag:noindex
X-PUBLISHED-TTL:PT1H
BEGIN:VTIMEZONE
TZID:America/Denver
BEGIN:DAYLIGHT
TZOFFSETFROM:-0700
TZOFFSETTO:-0600
TZNAME:MDT
DTSTART:20240310T090000
END:DAYLIGHT
BEGIN:STANDARD
TZOFFSETFROM:-0600
TZOFFSETTO:-0700
TZNAME:MST
DTSTART:20241103T080000
END:STANDARD
BEGIN:DAYLIGHT
TZOFFSETFROM:-0700
TZOFFSETTO:-0600
TZNAME:MDT
DTSTART:20250309T090000
END:DAYLIGHT
BEGIN:STANDARD
TZOFFSETFROM:-0600
TZOFFSETTO:-0700
TZNAME:MST
DTSTART:20251102T080000
END:STANDARD
BEGIN:DAYLIGHT
TZOFFSETFROM:-0700
TZOFFSETTO:-0600
TZNAME:MDT
DTSTART:20260308T090000
END:DAYLIGHT
BEGIN:STANDARD
TZOFFSETFROM:-0600
TZOFFSETTO:-0700
TZNAME:MST
DTSTART:20261101T080000
END:STANDARD
END:VTIMEZONE
BEGIN:VEVENT
DTSTART;TZID=America/Denver:20250720T113000
DTEND;TZID=America/Denver:20250720T160000
DTSTAMP:20260425T045933
CREATED:20250614T173711Z
LAST-MODIFIED:20250614T173711Z
UID:89316-1753011000-1753027200@dishingjh.com
SUMMARY:Sunday BBQ & Blues
DESCRIPTION:Grab a seat at our gastropub and enjoy weekly BBQ and blues mountainside\, featuring unbelievable views and the charm of Rendezvous Mountain.
URL:https://dishingjh.com/event/sunday-bbq-blues/2025-07-20/
LOCATION:The Handle Bar\, 7680 Granite Loop Rd\, Teton Village\, WY\, 83025\, United States
CATEGORIES:Holiday Festivity,Hours & Information,Live Music,Special Events
GEO:43.5888597;-110.8270034
X-APPLE-STRUCTURED-LOCATION;VALUE=URI;X-ADDRESS=The Handle Bar 7680 Granite Loop Rd Teton Village WY 83025 United States;X-APPLE-RADIUS=500;X-TITLE=7680 Granite Loop Rd:geo:-110.8270034,43.5888597
END:VEVENT
BEGIN:VEVENT
DTSTART;TZID=America/Denver:20250720T170000
DTEND;TZID=America/Denver:20250720T170000
DTSTAMP:20260425T045933
CREATED:20250509T192341Z
LAST-MODIFIED:20250509T192341Z
UID:88684-1753030800-1753030800@dishingjh.com
SUMMARY:Sunday Fundays and Concerts on the Commons
DESCRIPTION:Spend your Sundays in Teton Village\nwith discounted bike park tickets\nand bike rentals and a weekly disc\ngolf tournament. After a day full\nof outdoor activities\, enjoy food\nand drink specials from RPK3 as\nlive music kicks off with Concerts\non the Commons. Exciting talent\nfrom across the country brings the\ncommunity together at the Teton\nVillage Commons for the ultimate\nmusic and foodie fix. Grab food and\ndrinks at the show as restaurants\nsell a variety of snacks and drinks\nthroughout the afternoon and\nevening.
URL:https://dishingjh.com/event/sunday-fundays-and-concerts-on-the-commons/2025-07-20/
LOCATION:Jackson Hole Mountain Resort\, Teton Village\, WY\, 83025\, United States
CATEGORIES:Live Music,Special Events
GEO:43.5873149;-110.8269876
END:VEVENT
BEGIN:VEVENT
DTSTART;TZID=America/Denver:20250721T170000
DTEND;TZID=America/Denver:20250721T170000
DTSTAMP:20260425T045933
CREATED:20250621T045503Z
LAST-MODIFIED:20250623T210753Z
UID:89410-1753117200-1753117200@dishingjh.com
SUMMARY:Grazing Rights Summer Food Truck Series
DESCRIPTION:
URL:https://dishingjh.com/event/grazing-rights-summer-food-truck-series-2025-07-07/2025-07-21/
LOCATION:Mike Yokel Jr. Park\, 455 E Kelly Ave\, Jackson\, WY\, 83001\, United States
END:VEVENT
BEGIN:VEVENT
DTSTART;TZID=America/Denver:20250722T160000
DTEND;TZID=America/Denver:20250722T160000
DTSTAMP:20260425T045933
CREATED:20250509T195326Z
LAST-MODIFIED:20250509T195326Z
UID:88791-1753200000-1753200000@dishingjh.com
SUMMARY:Outstanding in the Field
DESCRIPTION:Beginning in 1999\, this dinner series\nhas brought food lovers to organic\nlocations across the country to\nreconnect diners to the land and the\norigins of their food and to honor\nlocal farmers and artisans responsible\nfor the cultivation. Outstanding in the\nField considers itself a “restaurant\nwithout walls” and is returning to the\nbeautiful Mead Ranch to serve up\nregionally influenced cuisine.
URL:https://dishingjh.com/event/outstanding-in-the-field/
LOCATION:Mead Ranch\, Jackson\, WY\, 83001\, United States
CATEGORIES:Special Events
GEO:43.4686966;-110.6724168
END:VEVENT
BEGIN:VEVENT
DTSTART;VALUE=DATE:20250723
DTEND;VALUE=DATE:20250724
DTSTAMP:20260425T045933
CREATED:20250509T195600Z
LAST-MODIFIED:20250509T195653Z
UID:88793-1753228800-1753315199@dishingjh.com
SUMMARY:Teton County Fair
DESCRIPTION:Serving up good times for the entire\nfamily\, the Teton County Fair is a week\npacked full of fun: figure-eight races\,\nfair rides\, live music and\, of course\,\nfood. Enjoy county fair classics like\ncorndogs\, popcorn\, cotton candy and\nfunnel cake. Throughout the day\, visit\naround 15 craft vendors for delicious\nbites such as elote\, street tacos\,\nbarbecue\, fresh fruit\, snow cones and\nmore. Stop by to support one of the\nlocal food trucks serving up bites at\nthe evening events.
URL:https://dishingjh.com/event/teton-county-fair-5/2025-07-23/
LOCATION:Teton County Fair\, 305 West Snow King Ave\, Jackson\, WY\, 83001\, United States
CATEGORIES:Special Events
GEO:43.4739999;-110.768
X-APPLE-STRUCTURED-LOCATION;VALUE=URI;X-ADDRESS=Teton County Fair 305 West Snow King Ave Jackson WY 83001 United States;X-APPLE-RADIUS=500;X-TITLE=305 West Snow King Ave:geo:-110.768,43.4739999
END:VEVENT
BEGIN:VEVENT
DTSTART;TZID=America/Denver:20250723T160000
DTEND;TZID=America/Denver:20250723T190000
DTSTAMP:20260425T045933
CREATED:20250509T191942Z
LAST-MODIFIED:20250509T191942Z
UID:88664-1753286400-1753297200@dishingjh.com
SUMMARY:People's Market
DESCRIPTION:The summer People’s Market is a farmers market\nfor local growers and producers; an incubator for\nlocally made\, sustainable crafts; and a gathering\nspace for the community to celebrate local and\nregional good\, clean and fair food. Find produce\,\nbaked goods\, food trucks and more on Wednesdays\nin the peak of summer.
URL:https://dishingjh.com/event/peoples-market-3/2025-07-23/
LOCATION:Center For the Arts\, 265 S. Cache St\, Jackson\, WY\, United States
CATEGORIES:Special Events
GEO:43.4767654;-110.7624158
X-APPLE-STRUCTURED-LOCATION;VALUE=URI;X-ADDRESS=Center For the Arts 265 S. Cache St Jackson WY United States;X-APPLE-RADIUS=500;X-TITLE=265 S. Cache St:geo:-110.7624158,43.4767654
END:VEVENT
BEGIN:VEVENT
DTSTART;TZID=America/Denver:20250723T170000
DTEND;TZID=America/Denver:20250723T170000
DTSTAMP:20260425T045933
CREATED:20250509T195848Z
LAST-MODIFIED:20250509T195848Z
UID:88807-1753290000-1753290000@dishingjh.com
SUMMARY:Alex's Table
DESCRIPTION:Enjoy cocktail hour and chef Chris\nMassad’s unique twist on Japanese\ncuisine\, brought to you by Fine Dining\nRestaurant Group at Kampai before\nheading over to The Cloudveil hotel for\ndinner and wine pairings like no other.\nJackson Hole chef and restaurateur\nGavin Fine is bringing in some of the\ncountry’s best chefs to prepare a meal\naccompanied by perfect wine pairings.\nThis food and wine experience benefits\nAlex’s Lemonade Stand Foundation for\nchildhood cancer.
URL:https://dishingjh.com/event/alexs-table/
LOCATION:Kampai\, 175 Center St\, Jackson\, 83001\, United States
CATEGORIES:Special Events
END:VEVENT
BEGIN:VEVENT
DTSTART;VALUE=DATE:20250724
DTEND;VALUE=DATE:20250728
DTSTAMP:20260425T045933
CREATED:20250715T230143Z
LAST-MODIFIED:20250715T230143Z
UID:89743-1753315200-1753660799@dishingjh.com
SUMMARY:The Alchemistress at Calico Bar and Garden
DESCRIPTION:Lindsey Ross will be taking photos at the Calico Bar and Garden for two weekends: July 24th-27th and July 31- August 3rd. \nThe portraits will be 8x10in tintypes for $350. Each portrait comes with the physical plate and a digital scan as well. \nTintypes are direct positive images created on metal using the 19th century photographic process\, wet plate collodion. This was the reigning photographic process from the 1850’s-1880’s. \nPlease reserve an appointment by purchasing an appointment via this link for 7/24 weekend \nOr this link for 7/31 weekend.
URL:https://dishingjh.com/event/the-alchemistress-at-calico-bar-and-garden/
LOCATION:Calico\, Jackson\, WY\, United States
CATEGORIES:Special Events
GEO:43.4799291;-110.7624282
END:VEVENT
BEGIN:VEVENT
DTSTART;TZID=America/Denver:20250724T000000
DTEND;TZID=America/Denver:20250724T000000
DTSTAMP:20260425T045933
CREATED:20250509T193314Z
LAST-MODIFIED:20250509T193314Z
UID:88734-1753315200-1753315200@dishingjh.com
SUMMARY:Slow Food in the Tetons Farm Stand
DESCRIPTION:Order ahead online (tetonslowfood.\norg/online-markeplace) or stop by the\nSlow Food Farm Stand for fresh\, local\nand regional food.
URL:https://dishingjh.com/event/slow-food-in-the-tetons-farm-stand-2/2025-07-24/
LOCATION:Snake River Brewery\, 265 S. Millward St\, Jackson\, WY\, 83001\, United States
CATEGORIES:Special Events
GEO:43.4768201;-110.7650641
X-APPLE-STRUCTURED-LOCATION;VALUE=URI;X-ADDRESS=Snake River Brewery 265 S. Millward St Jackson WY 83001 United States;X-APPLE-RADIUS=500;X-TITLE=265 S. Millward St:geo:-110.7650641,43.4768201
END:VEVENT
BEGIN:VEVENT
DTSTART;VALUE=DATE:20250724
DTEND;VALUE=DATE:20250725
DTSTAMP:20260425T045933
CREATED:20250509T195600Z
LAST-MODIFIED:20250509T195600Z
UID:88803-1753315200-1753401599@dishingjh.com
SUMMARY:Teton County Fair
DESCRIPTION:Serving up good times for the entire\nfamily\, the Teton County Fair is a week\npacked full of fun: figure-eight races\,\nfair rides\, live music and\, of course\,\nfood. Enjoy county fair classics like\ncorndogs\, popcorn\, cotton candy and\nfunnel cake. Throughout the day\, visit\naround 15 craft vendors for delicious\nbites such as elote\, street tacos\,\nbarbecue\, fresh fruit\, snow cones and\nmore. Stop by to support one of the\nlocal food trucks serving up bites at\nthe evening events.
URL:https://dishingjh.com/event/teton-county-fair-5/2025-07-24/
LOCATION:Teton County Fair\, 305 West Snow King Ave\, Jackson\, WY\, 83001\, United States
CATEGORIES:Special Events
GEO:43.4739999;-110.768
X-APPLE-STRUCTURED-LOCATION;VALUE=URI;X-ADDRESS=Teton County Fair 305 West Snow King Ave Jackson WY 83001 United States;X-APPLE-RADIUS=500;X-TITLE=305 West Snow King Ave:geo:-110.768,43.4739999
END:VEVENT
BEGIN:VEVENT
DTSTART;TZID=America/Denver:20250724T000000
DTEND;TZID=America/Denver:20250724T235959
DTSTAMP:20260425T045933
CREATED:20250514T181716Z
LAST-MODIFIED:20250514T181716Z
UID:88909-1753315200-1753401599@dishingjh.com
SUMMARY:Jackson Hole Winery Wine Tastings
DESCRIPTION:Join Jackson Hole Winery this summer at Astoria Hot Springs for wine tastings in the sun along the Snake River! Starting June 5 through the end of September 2025. Sundays and Thursdays we will host wine tastings at the Johnny Counts Cabin next to the Astoria Hot Springs Pools. Give us a call to book reservations!
URL:https://dishingjh.com/event/jackson-hole-winery-wine-tastings/2025-07-24/
LOCATION:Astoria Hot Springs\, 1 Johnny Counts Road\, Jackson\, WY\, 83001\, United States
CATEGORIES:Special Events
END:VEVENT
BEGIN:VEVENT
DTSTART;TZID=America/Denver:20250724T000000
DTEND;TZID=America/Denver:20250725T000000
DTSTAMP:20260425T045933
CREATED:20250715T221105Z
LAST-MODIFIED:20250715T221105Z
UID:89740-1753315200-1753401600@dishingjh.com
SUMMARY:Tonya Hawkes Trunk Show
DESCRIPTION:Celebrate the exclusive collaboration with Tonya and Lela in-store as they debut several custom bags.
URL:https://dishingjh.com/event/tonya-hawkes-trunk-show/
LOCATION:Lela Rose Ranch\, 1230 North Ida Lane\, WIlson\, 83014\, United States
CATEGORIES:Hours & Information,Special Events
END:VEVENT
BEGIN:VEVENT
DTSTART;TZID=America/Denver:20250724T170000
DTEND;TZID=America/Denver:20250724T210000
DTSTAMP:20260425T045933
CREATED:20250621T045913Z
LAST-MODIFIED:20250621T045913Z
UID:89443-1753376400-1753390800@dishingjh.com
SUMMARY:DJ on the Kampai Rooftop
DESCRIPTION:
URL:https://dishingjh.com/event/dj-on-the-kampai-rooftop/2025-07-24/
LOCATION:Kampai\, 175 Center St\, Jackson\, 83001\, United States
CATEGORIES:Hours & Information,Live Music,Special Events
END:VEVENT
BEGIN:VEVENT
DTSTART;TZID=America/Denver:20250725T160000
DTEND;TZID=America/Denver:20250725T160000
DTSTAMP:20260425T045933
CREATED:20250509T191008Z
LAST-MODIFIED:20250509T191008Z
UID:88645-1753459200-1753459200@dishingjh.com
SUMMARY:Sips & Snacks
DESCRIPTION:Try new wines from Idaho Wine Merchant paired\nwith featured bites from Food Shed Idaho once a\nmonth throughout the summer. Enjoy this outdoor\ncommunity gathering as you sip\, snack\, shop and\ndiscover new favorites.
URL:https://dishingjh.com/event/sips-snacks-2/2025-07-25/
LOCATION:Food Shed Idaho\, 139 W Center St\, Victor\, ID\, 83455\, United States
END:VEVENT
BEGIN:VEVENT
DTSTART;TZID=America/Denver:20250725T160000
DTEND;TZID=America/Denver:20250725T190000
DTSTAMP:20260425T045933
CREATED:20250625T193630Z
LAST-MODIFIED:20250625T193630Z
UID:89535-1753459200-1753470000@dishingjh.com
SUMMARY:Food Truck Friday at Roadhouse Brewing Co.
DESCRIPTION:From 4-7 p.m. the Jedediah’s food truck will be at Roadhouse Brewing Co \nIt’s all about making it easy to hang—$5 chef-precision beer ($4 for mug clubbers) paired with local\, fresh tasty bites. No downtown chaos\, just cornhole and a bit of taproom shenanigans or chill its up to you. Bring your dog\, kids\, or not. Roadhouse has got the beer\, and now food on Fridays \nJedediah’s – A Fresh Taste of the Old West \nSaddle up for a modern twist on frontier flavors with Jedediah’s\, where quality and convenience ride side by side. Jedediah’s will be serving up BBQ sandwiches this summer – a perfect compliment to a Roadhouse beer. Rooted in warm hospitality\, fresh ingredients\, and eco-conscious values\, Jedediah’s delivers fast\, flavorful food with a western spirit and a smile.
URL:https://dishingjh.com/event/food-truck-friday-at-roadhouse-brewing-co-4/
LOCATION:Roadhouse Brewery\, 1225 Gregory Lane\, Jackson\, WY\, 83001
END:VEVENT
BEGIN:VEVENT
DTSTART;VALUE=DATE:20250726
DTEND;VALUE=DATE:20250727
DTSTAMP:20260425T045933
CREATED:20250509T195600Z
LAST-MODIFIED:20250509T195600Z
UID:88804-1753488000-1753574399@dishingjh.com
SUMMARY:Teton County Fair
DESCRIPTION:Serving up good times for the entire\nfamily\, the Teton County Fair is a week\npacked full of fun: figure-eight races\,\nfair rides\, live music and\, of course\,\nfood. Enjoy county fair classics like\ncorndogs\, popcorn\, cotton candy and\nfunnel cake. Throughout the day\, visit\naround 15 craft vendors for delicious\nbites such as elote\, street tacos\,\nbarbecue\, fresh fruit\, snow cones and\nmore. Stop by to support one of the\nlocal food trucks serving up bites at\nthe evening events.
URL:https://dishingjh.com/event/teton-county-fair-5/2025-07-26/
LOCATION:Teton County Fair\, 305 West Snow King Ave\, Jackson\, WY\, 83001\, United States
CATEGORIES:Special Events
GEO:43.4739999;-110.768
X-APPLE-STRUCTURED-LOCATION;VALUE=URI;X-ADDRESS=Teton County Fair 305 West Snow King Ave Jackson WY 83001 United States;X-APPLE-RADIUS=500;X-TITLE=305 West Snow King Ave:geo:-110.768,43.4739999
END:VEVENT
BEGIN:VEVENT
DTSTART;TZID=America/Denver:20250726T080000
DTEND;TZID=America/Denver:20250726T120000
DTSTAMP:20260425T045933
CREATED:20250509T193614Z
LAST-MODIFIED:20250509T193614Z
UID:88759-1753516800-1753531200@dishingjh.com
SUMMARY:Jackson Hole Farmers Market
DESCRIPTION:This Saturday morning hot spot for\nfood lovers offers a wide selection\nof fresh produce\, meats\, cheeses\,\nbreads\, sweet treats\, food trucks and\nmuch more. Be sure to come early\nto get your pick of the best seasonal\nitems before they sell out. Stop by\none of the booths serving up coffee\nand breakfast to fuel your Town\nSquare lap.
URL:https://dishingjh.com/event/jackson-hole-farmers-market-5/2025-07-26/
LOCATION:Jackson Hole Town Square\, 10 E Broadway Ave\, Jackson\, WY\, 83001\, United States
CATEGORIES:Special Events
END:VEVENT
BEGIN:VEVENT
DTSTART;VALUE=DATE:20250727
DTEND;VALUE=DATE:20250728
DTSTAMP:20260425T045933
CREATED:20250509T195600Z
LAST-MODIFIED:20250509T195600Z
UID:88805-1753574400-1753660799@dishingjh.com
SUMMARY:Teton County Fair
DESCRIPTION:Serving up good times for the entire\nfamily\, the Teton County Fair is a week\npacked full of fun: figure-eight races\,\nfair rides\, live music and\, of course\,\nfood. Enjoy county fair classics like\ncorndogs\, popcorn\, cotton candy and\nfunnel cake. Throughout the day\, visit\naround 15 craft vendors for delicious\nbites such as elote\, street tacos\,\nbarbecue\, fresh fruit\, snow cones and\nmore. Stop by to support one of the\nlocal food trucks serving up bites at\nthe evening events.
URL:https://dishingjh.com/event/teton-county-fair-5/2025-07-27/
LOCATION:Teton County Fair\, 305 West Snow King Ave\, Jackson\, WY\, 83001\, United States
CATEGORIES:Special Events
GEO:43.4739999;-110.768
X-APPLE-STRUCTURED-LOCATION;VALUE=URI;X-ADDRESS=Teton County Fair 305 West Snow King Ave Jackson WY 83001 United States;X-APPLE-RADIUS=500;X-TITLE=305 West Snow King Ave:geo:-110.768,43.4739999
END:VEVENT
BEGIN:VEVENT
DTSTART;TZID=America/Denver:20250727T000000
DTEND;TZID=America/Denver:20250727T235959
DTSTAMP:20260425T045933
CREATED:20250514T181716Z
LAST-MODIFIED:20250514T181716Z
UID:88910-1753574400-1753660799@dishingjh.com
SUMMARY:Jackson Hole Winery Wine Tastings
DESCRIPTION:Join Jackson Hole Winery this summer at Astoria Hot Springs for wine tastings in the sun along the Snake River! Starting June 5 through the end of September 2025. Sundays and Thursdays we will host wine tastings at the Johnny Counts Cabin next to the Astoria Hot Springs Pools. Give us a call to book reservations!
URL:https://dishingjh.com/event/jackson-hole-winery-wine-tastings/2025-07-27/
LOCATION:Astoria Hot Springs\, 1 Johnny Counts Road\, Jackson\, WY\, 83001\, United States
CATEGORIES:Special Events
END:VEVENT
BEGIN:VEVENT
DTSTART;TZID=America/Denver:20250727T113000
DTEND;TZID=America/Denver:20250727T160000
DTSTAMP:20260425T045933
CREATED:20250614T173711Z
LAST-MODIFIED:20250614T173711Z
UID:89317-1753615800-1753632000@dishingjh.com
SUMMARY:Sunday BBQ & Blues
DESCRIPTION:Grab a seat at our gastropub and enjoy weekly BBQ and blues mountainside\, featuring unbelievable views and the charm of Rendezvous Mountain.
URL:https://dishingjh.com/event/sunday-bbq-blues/2025-07-27/
LOCATION:The Handle Bar\, 7680 Granite Loop Rd\, Teton Village\, WY\, 83025\, United States
CATEGORIES:Holiday Festivity,Hours & Information,Live Music,Special Events
GEO:43.5888597;-110.8270034
X-APPLE-STRUCTURED-LOCATION;VALUE=URI;X-ADDRESS=The Handle Bar 7680 Granite Loop Rd Teton Village WY 83025 United States;X-APPLE-RADIUS=500;X-TITLE=7680 Granite Loop Rd:geo:-110.8270034,43.5888597
END:VEVENT
BEGIN:VEVENT
DTSTART;TZID=America/Denver:20250727T170000
DTEND;TZID=America/Denver:20250727T170000
DTSTAMP:20260425T045933
CREATED:20250509T192341Z
LAST-MODIFIED:20250509T192341Z
UID:88685-1753635600-1753635600@dishingjh.com
SUMMARY:Sunday Fundays and Concerts on the Commons
DESCRIPTION:Spend your Sundays in Teton Village\nwith discounted bike park tickets\nand bike rentals and a weekly disc\ngolf tournament. After a day full\nof outdoor activities\, enjoy food\nand drink specials from RPK3 as\nlive music kicks off with Concerts\non the Commons. Exciting talent\nfrom across the country brings the\ncommunity together at the Teton\nVillage Commons for the ultimate\nmusic and foodie fix. Grab food and\ndrinks at the show as restaurants\nsell a variety of snacks and drinks\nthroughout the afternoon and\nevening.
URL:https://dishingjh.com/event/sunday-fundays-and-concerts-on-the-commons/2025-07-27/
LOCATION:Jackson Hole Mountain Resort\, Teton Village\, WY\, 83025\, United States
CATEGORIES:Live Music,Special Events
GEO:43.5873149;-110.8269876
END:VEVENT
BEGIN:VEVENT
DTSTART;TZID=America/Denver:20250727T183000
DTEND;TZID=America/Denver:20250727T183000
DTSTAMP:20260425T045933
CREATED:20250509T193013Z
LAST-MODIFIED:20250509T193013Z
UID:88709-1753641000-1753641000@dishingjh.com
SUMMARY:Snow King Concert Series
DESCRIPTION:After a quick ride up the gondola\,\nenjoy amazing music\, local food\, craft\nbeverages and spectacular views\nof Jackson Hole. See one of five\nGrammy-winning bands and artists\nlike Luke Grimes\, Modest Mouse\,\nFlatland Cavalry\, Shane Smith & The\nSaints and more.
URL:https://dishingjh.com/event/snow-king-concert-series/2025-07-27/
LOCATION:Snow King Mountain
CATEGORIES:Live Music,Special Events
END:VEVENT
BEGIN:VEVENT
DTSTART;TZID=America/Denver:20250728T170000
DTEND;TZID=America/Denver:20250728T170000
DTSTAMP:20260425T045933
CREATED:20250621T045504Z
LAST-MODIFIED:20250623T210753Z
UID:89411-1753722000-1753722000@dishingjh.com
SUMMARY:Grazing Rights Summer Food Truck Series
DESCRIPTION:
URL:https://dishingjh.com/event/grazing-rights-summer-food-truck-series-2025-07-07/2025-07-28/
LOCATION:Mike Yokel Jr. Park\, 455 E Kelly Ave\, Jackson\, WY\, 83001\, United States
END:VEVENT
BEGIN:VEVENT
DTSTART;TZID=America/Denver:20250729T203000
DTEND;TZID=America/Denver:20250729T203000
DTSTAMP:20260425T045933
CREATED:20250729T184303Z
LAST-MODIFIED:20250729T184303Z
UID:89882-1753821000-1753821000@dishingjh.com
SUMMARY:Virginian Lodge Outdoor Movie Series
DESCRIPTION:Join us THIS Tuesday in the Virginian Courtyard for our new outdoor movie series. Cozy vibes\, classic films\, and summer skies — every Tuesday from July 29th-August 19th. Bring a blanket\, grab a drink\, and settle in. Dinner specials from Billy’s and presented by Epic Craft Stage & Sound. ?Movies start right at sundown! 8:30ish.\n?\nJuly 29th: Dirty Dancing ?\nAugust 5th: Jaws?\nAugust 12th: The Breakfast Club?\nAugust 19th: The Parent Trap?\n?\nWe will have 100 Silent Disco Headphones. Looking forward to celebrating summer with you!
URL:https://dishingjh.com/event/virginian-lodge-outdoor-movie-series/2025-07-29/
LOCATION:Virginian Lodge\, 750 W. Broadway\, Jackson\, WY\, 83001\, United States
CATEGORIES:Hours & Information,Special Events
END:VEVENT
BEGIN:VEVENT
DTSTART;TZID=America/Denver:20250730T160000
DTEND;TZID=America/Denver:20250730T190000
DTSTAMP:20260425T045933
CREATED:20250509T191942Z
LAST-MODIFIED:20250509T191942Z
UID:88665-1753891200-1753902000@dishingjh.com
SUMMARY:People's Market
DESCRIPTION:The summer People’s Market is a farmers market\nfor local growers and producers; an incubator for\nlocally made\, sustainable crafts; and a gathering\nspace for the community to celebrate local and\nregional good\, clean and fair food. Find produce\,\nbaked goods\, food trucks and more on Wednesdays\nin the peak of summer.
URL:https://dishingjh.com/event/peoples-market-3/2025-07-30/
LOCATION:Center For the Arts\, 265 S. Cache St\, Jackson\, WY\, United States
CATEGORIES:Special Events
GEO:43.4767654;-110.7624158
X-APPLE-STRUCTURED-LOCATION;VALUE=URI;X-ADDRESS=Center For the Arts 265 S. Cache St Jackson WY United States;X-APPLE-RADIUS=500;X-TITLE=265 S. Cache St:geo:-110.7624158,43.4767654
END:VEVENT
BEGIN:VEVENT
DTSTART;VALUE=DATE:20250731
DTEND;VALUE=DATE:20250804
DTSTAMP:20260425T045933
CREATED:20250715T230614Z
LAST-MODIFIED:20250715T230614Z
UID:89745-1753920000-1754265599@dishingjh.com
SUMMARY:The Alchemistress at Calico Bar and Garden
DESCRIPTION:Lindsey Ross will be taking photos at the Calico Bar and Garden for two weekends: July 24th-27th and July 31- August 3rd. \nThe portraits will be 8x10in tintypes for $350. Each portrait comes with the physical plate and a digital scan as well. \nTintypes are direct positive images created on metal using the 19th century photographic process\, wet plate collodion. This was the reigning photographic process from the 1850’s-1880’s. \nPlease reserve an appointment by purchasing an appointment via this link for 7/24 weekend \nOr this link for 7/31 weekend.
URL:https://dishingjh.com/event/the-alchemistress-at-calico-bar-and-garden-2/
LOCATION:Calico\, Jackson\, WY\, United States
GEO:43.4799291;-110.7624282
END:VEVENT
BEGIN:VEVENT
DTSTART;TZID=America/Denver:20250731T000000
DTEND;TZID=America/Denver:20250731T000000
DTSTAMP:20260425T045933
CREATED:20250509T193314Z
LAST-MODIFIED:20250509T193314Z
UID:88735-1753920000-1753920000@dishingjh.com
SUMMARY:Slow Food in the Tetons Farm Stand
DESCRIPTION:Order ahead online (tetonslowfood.\norg/online-markeplace) or stop by the\nSlow Food Farm Stand for fresh\, local\nand regional food.
URL:https://dishingjh.com/event/slow-food-in-the-tetons-farm-stand-2/2025-07-31/
LOCATION:Snake River Brewery\, 265 S. Millward St\, Jackson\, WY\, 83001\, United States
CATEGORIES:Special Events
GEO:43.4768201;-110.7650641
X-APPLE-STRUCTURED-LOCATION;VALUE=URI;X-ADDRESS=Snake River Brewery 265 S. Millward St Jackson WY 83001 United States;X-APPLE-RADIUS=500;X-TITLE=265 S. Millward St:geo:-110.7650641,43.4768201
END:VEVENT
BEGIN:VEVENT
DTSTART;TZID=America/Denver:20250731T000000
DTEND;TZID=America/Denver:20250731T235959
DTSTAMP:20260425T045933
CREATED:20250514T181716Z
LAST-MODIFIED:20250514T181716Z
UID:88911-1753920000-1754006399@dishingjh.com
SUMMARY:Jackson Hole Winery Wine Tastings
DESCRIPTION:Join Jackson Hole Winery this summer at Astoria Hot Springs for wine tastings in the sun along the Snake River! Starting June 5 through the end of September 2025. Sundays and Thursdays we will host wine tastings at the Johnny Counts Cabin next to the Astoria Hot Springs Pools. Give us a call to book reservations!
URL:https://dishingjh.com/event/jackson-hole-winery-wine-tastings/2025-07-31/
LOCATION:Astoria Hot Springs\, 1 Johnny Counts Road\, Jackson\, WY\, 83001\, United States
CATEGORIES:Special Events
END:VEVENT
BEGIN:VEVENT
DTSTART;TZID=America/Denver:20250731T170000
DTEND;TZID=America/Denver:20250731T170000
DTSTAMP:20260425T045933
CREATED:20250606T032147Z
LAST-MODIFIED:20250606T032332Z
UID:89204-1753981200-1753981200@dishingjh.com
SUMMARY:Snake River Brewing Summer Music Series 2025
DESCRIPTION:Summer is always better with a little live music. Enjoy our award winning beers and food menu alongside outdoor fun and smooth vibes. \n6/12: Quinlan Valdez\n6/26: DJ ECHO\n7/3: Jamie Hansen\n7/17: TBA\n7/31: Greg Hise Band\n8/14: Jamie Hansen\n8/28: Brendan Nolan\n9/11: Dangling Chains
URL:https://dishingjh.com/event/snake-river-brewing-summer-music-series-2025/2025-07-31/
LOCATION:Snake River Brewery\, 265 S. Millward St\, Jackson\, WY\, 83001\, United States
CATEGORIES:Hours & Information,Live Music,Special Events
GEO:43.4768201;-110.7650641
X-APPLE-STRUCTURED-LOCATION;VALUE=URI;X-ADDRESS=Snake River Brewery 265 S. Millward St Jackson WY 83001 United States;X-APPLE-RADIUS=500;X-TITLE=265 S. Millward St:geo:-110.7650641,43.4768201
END:VEVENT
BEGIN:VEVENT
DTSTART;TZID=America/Denver:20250731T170000
DTEND;TZID=America/Denver:20250731T210000
DTSTAMP:20260425T045933
CREATED:20250509T200146Z
LAST-MODIFIED:20250509T200146Z
UID:88809-1753981200-1753995600@dishingjh.com
SUMMARY:Table On The Ranch
DESCRIPTION:Enjoy this pasture-to-table\, seven-\ncourse meal at Little Jennie Ranch \nwith an evening full of education\,\ncommunity\, special wine pairings and\nlocal food. This is brought to you by\nthe Jackson Hole Farmers Market.
URL:https://dishingjh.com/event/table-on-the-ranch-3/
LOCATION:Little Jennie Ranch\, 332 Dell Creek Rd\, Bondurant\, 82922\, United States
CATEGORIES:Special Events
END:VEVENT
END:VCALENDAR