BEGIN:VCALENDAR
VERSION:2.0
PRODID:-//Jackson Hole Restaurants - ECPv6.15.20//NONSGML v1.0//EN
CALSCALE:GREGORIAN
METHOD:PUBLISH
X-ORIGINAL-URL:https://dishingjh.com
X-WR-CALDESC:Events for Jackson Hole Restaurants
REFRESH-INTERVAL;VALUE=DURATION:PT1H
X-Robots-Tag:noindex
X-PUBLISHED-TTL:PT1H
BEGIN:VTIMEZONE
TZID:America/Denver
BEGIN:DAYLIGHT
TZOFFSETFROM:-0700
TZOFFSETTO:-0600
TZNAME:MDT
DTSTART:20240310T090000
END:DAYLIGHT
BEGIN:STANDARD
TZOFFSETFROM:-0600
TZOFFSETTO:-0700
TZNAME:MST
DTSTART:20241103T080000
END:STANDARD
BEGIN:DAYLIGHT
TZOFFSETFROM:-0700
TZOFFSETTO:-0600
TZNAME:MDT
DTSTART:20250309T090000
END:DAYLIGHT
BEGIN:STANDARD
TZOFFSETFROM:-0600
TZOFFSETTO:-0700
TZNAME:MST
DTSTART:20251102T080000
END:STANDARD
BEGIN:DAYLIGHT
TZOFFSETFROM:-0700
TZOFFSETTO:-0600
TZNAME:MDT
DTSTART:20260308T090000
END:DAYLIGHT
BEGIN:STANDARD
TZOFFSETFROM:-0600
TZOFFSETTO:-0700
TZNAME:MST
DTSTART:20261101T080000
END:STANDARD
END:VTIMEZONE
BEGIN:VEVENT
DTSTART;TZID=America/Denver:20250625T160000
DTEND;TZID=America/Denver:20250625T190000
DTSTAMP:20260424T042450
CREATED:20250509T191942Z
LAST-MODIFIED:20250509T191942Z
UID:88660-1750867200-1750878000@dishingjh.com
SUMMARY:People's Market
DESCRIPTION:The summer People’s Market is a farmers market\nfor local growers and producers; an incubator for\nlocally made\, sustainable crafts; and a gathering\nspace for the community to celebrate local and\nregional good\, clean and fair food. Find produce\,\nbaked goods\, food trucks and more on Wednesdays\nin the peak of summer.
URL:https://dishingjh.com/event/peoples-market-3/2025-06-25/
LOCATION:Center For the Arts\, 265 S. Cache St\, Jackson\, WY\, United States
CATEGORIES:Special Events
GEO:43.4767654;-110.7624158
X-APPLE-STRUCTURED-LOCATION;VALUE=URI;X-ADDRESS=Center For the Arts 265 S. Cache St Jackson WY United States;X-APPLE-RADIUS=500;X-TITLE=265 S. Cache St:geo:-110.7624158,43.4767654
END:VEVENT
BEGIN:VEVENT
DTSTART;TZID=America/Denver:20250626T000000
DTEND;TZID=America/Denver:20250626T000000
DTSTAMP:20260424T042450
CREATED:20250509T193313Z
LAST-MODIFIED:20250509T193313Z
UID:88730-1750896000-1750896000@dishingjh.com
SUMMARY:Slow Food in the Tetons Farm Stand
DESCRIPTION:Order ahead online (tetonslowfood.\norg/online-markeplace) or stop by the\nSlow Food Farm Stand for fresh\, local\nand regional food.
URL:https://dishingjh.com/event/slow-food-in-the-tetons-farm-stand-2/2025-06-26/
LOCATION:Snake River Brewery\, 265 S. Millward St\, Jackson\, WY\, 83001\, United States
CATEGORIES:Special Events
GEO:43.4768201;-110.7650641
X-APPLE-STRUCTURED-LOCATION;VALUE=URI;X-ADDRESS=Snake River Brewery 265 S. Millward St Jackson WY 83001 United States;X-APPLE-RADIUS=500;X-TITLE=265 S. Millward St:geo:-110.7650641,43.4768201
END:VEVENT
BEGIN:VEVENT
DTSTART;TZID=America/Denver:20250626T000000
DTEND;TZID=America/Denver:20250626T235959
DTSTAMP:20260424T042450
CREATED:20250514T181716Z
LAST-MODIFIED:20250514T181716Z
UID:88901-1750896000-1750982399@dishingjh.com
SUMMARY:Jackson Hole Winery Wine Tastings
DESCRIPTION:Join Jackson Hole Winery this summer at Astoria Hot Springs for wine tastings in the sun along the Snake River! Starting June 5 through the end of September 2025. Sundays and Thursdays we will host wine tastings at the Johnny Counts Cabin next to the Astoria Hot Springs Pools. Give us a call to book reservations!
URL:https://dishingjh.com/event/jackson-hole-winery-wine-tastings/2025-06-26/
LOCATION:Astoria Hot Springs\, 1 Johnny Counts Road\, Jackson\, WY\, 83001\, United States
CATEGORIES:Special Events
END:VEVENT
BEGIN:VEVENT
DTSTART;TZID=America/Denver:20250626T150000
DTEND;TZID=America/Denver:20250626T170000
DTSTAMP:20260424T042450
CREATED:20250509T201059Z
LAST-MODIFIED:20250509T201059Z
UID:88820-1750950000-1750957200@dishingjh.com
SUMMARY:Jackson Hole Food & Wine Festival: The Glories Of Grand Cru Musigny (Wine Tasting)
DESCRIPTION:Join Billy Weiss and Andy Chabot\nfor an intimate Tuscan Sangiovese\ntasting as they share their own\nexperiences with these regions and\nwines.
URL:https://dishingjh.com/event/jackson-hole-food-wine-festival-the-glories-of-grand-cru-musigny-wine-tasting/
LOCATION:caldera house\, 3275 Village Dr\, Teton Village\, 83025\, United States
CATEGORIES:Special Events
END:VEVENT
BEGIN:VEVENT
DTSTART;TZID=America/Denver:20250626T170000
DTEND;TZID=America/Denver:20250626T170000
DTSTAMP:20260424T042450
CREATED:20250606T032147Z
LAST-MODIFIED:20250606T032331Z
UID:89201-1750957200-1750957200@dishingjh.com
SUMMARY:Snake River Brewing Summer Music Series 2025
DESCRIPTION:Summer is always better with a little live music. Enjoy our award winning beers and food menu alongside outdoor fun and smooth vibes. \n6/12: Quinlan Valdez\n6/26: DJ ECHO\n7/3: Jamie Hansen\n7/17: TBA\n7/31: Greg Hise Band\n8/14: Jamie Hansen\n8/28: Brendan Nolan\n9/11: Dangling Chains
URL:https://dishingjh.com/event/snake-river-brewing-summer-music-series-2025/2025-06-26/
LOCATION:Snake River Brewery\, 265 S. Millward St\, Jackson\, WY\, 83001\, United States
CATEGORIES:Hours & Information,Live Music,Special Events
GEO:43.4768201;-110.7650641
X-APPLE-STRUCTURED-LOCATION;VALUE=URI;X-ADDRESS=Snake River Brewery 265 S. Millward St Jackson WY 83001 United States;X-APPLE-RADIUS=500;X-TITLE=265 S. Millward St:geo:-110.7650641,43.4768201
END:VEVENT
BEGIN:VEVENT
DTSTART;TZID=America/Denver:20250626T170000
DTEND;TZID=America/Denver:20250626T210000
DTSTAMP:20260424T042450
CREATED:20250621T045913Z
LAST-MODIFIED:20250623T212308Z
UID:89423-1750957200-1750971600@dishingjh.com
SUMMARY:DJ on the Kampai Rooftop
DESCRIPTION:
URL:https://dishingjh.com/event/dj-on-the-kampai-rooftop/2025-06-26/
LOCATION:Kampai\, 175 Center St\, Jackson\, 83001\, United States
CATEGORIES:Hours & Information,Live Music,Special Events
END:VEVENT
BEGIN:VEVENT
DTSTART;TZID=America/Denver:20250626T180000
DTEND;TZID=America/Denver:20250626T210000
DTSTAMP:20260424T042450
CREATED:20250509T201409Z
LAST-MODIFIED:20250509T201409Z
UID:88824-1750960800-1750971600@dishingjh.com
SUMMARY:Jackson Hole Food & Wine Festival: Taste of Jackson Hole
DESCRIPTION:Taste of Jackson Hole offers guests\nan exclusive chance to taste a\ndiverse range of signature dishes\nprepared by the best of Jackson\nHole’s culinary community. Arrive via\nBridger Gondola\, take in Jackson Hole\nMountain Resort’s stunning views from\nthe top of the mountain and taste\nmouth-watering bites from the finest\nlocal restaurants paired with a curated\nselection of wine\, beer and spirits.
URL:https://dishingjh.com/event/jackson-hole-food-wine-festival-taste-of-jackson-hole/
LOCATION:Rendezvous Bistro\, 380 U.S. 89\, Jackson\, WY\, 83001\, United States
CATEGORIES:Special Events
GEO:43.4712057;-110.7906868
X-APPLE-STRUCTURED-LOCATION;VALUE=URI;X-ADDRESS=Rendezvous Bistro 380 U.S. 89 Jackson WY 83001 United States;X-APPLE-RADIUS=500;X-TITLE=380 U.S. 89:geo:-110.7906868,43.4712057
END:VEVENT
BEGIN:VEVENT
DTSTART;TZID=America/Denver:20250627T160000
DTEND;TZID=America/Denver:20250627T160000
DTSTAMP:20260424T042450
CREATED:20250509T191007Z
LAST-MODIFIED:20250509T191007Z
UID:88644-1751040000-1751040000@dishingjh.com
SUMMARY:Sips & Snacks
DESCRIPTION:Try new wines from Idaho Wine Merchant paired\nwith featured bites from Food Shed Idaho once a\nmonth throughout the summer. Enjoy this outdoor\ncommunity gathering as you sip\, snack\, shop and\ndiscover new favorites.
URL:https://dishingjh.com/event/sips-snacks-2/2025-06-27/
LOCATION:Food Shed Idaho\, 139 W Center St\, Victor\, ID\, 83455\, United States
END:VEVENT
BEGIN:VEVENT
DTSTART;TZID=America/Denver:20250627T160000
DTEND;TZID=America/Denver:20250627T190000
DTSTAMP:20260424T042450
CREATED:20250625T192459Z
LAST-MODIFIED:20250625T192459Z
UID:89529-1751040000-1751050800@dishingjh.com
SUMMARY:Food Truck Friday at Roadhouse Brewing Co
DESCRIPTION:From 4-7 p.m. the Down Home Eats food truck will be at Roadhouse Brewing Co \nIt’s all about making it easy to hang—$5 chef-precision beer ($4 for mug clubbers) paired with local\, fresh tasty bites. No downtown chaos\, just cornhole and a bit of taproom shenanigans or chill its up to you. Bring your dog\, kids\, or not. Roadhouse has got the beer\, and now food on Fridays \nDown Home Eats – Serving Comfort One Plate at a Time \nCraving a taste of home on the go? Down Home Eats dishes up scratch-made comfort food that warms the soul and satisfies the appetite. From creamy mac and cheese to golden chicken pot pie and mighty fine grilled hot dogs\, every bite brings nostalgic flavors and hearty satisfaction. This is comfort you can count on—made from scratch and served with heart.
URL:https://dishingjh.com/event/food-truck-friday-at-roadhouse-brewing-co/
LOCATION:Roadhouse Brewery\, 1225 Gregory Lane\, Jackson\, WY\, 83001
END:VEVENT
BEGIN:VEVENT
DTSTART;TZID=America/Denver:20250627T183000
DTEND;TZID=America/Denver:20250627T213000
DTSTAMP:20260424T042450
CREATED:20250509T201622Z
LAST-MODIFIED:20250509T201622Z
UID:88826-1751049000-1751059800@dishingjh.com
SUMMARY:Jackson Hole Food & Wine Dinner Series: Italian Flair\, Burgundian Soul
DESCRIPTION:This culinary event brings together\ntwo titans of taste. This one-night-only\ndinner combines the inspired cuisine\nof Denver-based Tavernetta and the\nlegendary wines of Burgundy’s Comte\nGeorges de Vogüé. Guest Executive\nChef Cody Cheetham of Tavernetta\,\npart of the award-winning (and\nMichelin-starred) Frasca Hospitality\nGroup\, will dazzle an intimate group\nof guests with a delectable selection\nof Italian specialties. Vogüé estate\nmanager Jean-Luc Pépin will share a\ngenerous lineup of Vogüé wines from\nthe lauded 2022 vintage\, including the\nestate’s rare grand cru Musigny and\ngrand cru Bonnes Mares.\nVogüé’s U.S. importer\, Billy Weiss\nof North Berkeley Imports\, and\nMaster Sommelier Bobby Stuckey of\nFrasca Hospitality Group will share\ntheir expert insights on Vogüé’s rare\nBurgundy wines.
URL:https://dishingjh.com/event/jackson-hole-food-wine-dinner-series-italian-flair-burgundian-soul/
LOCATION:The Wild Sage\, 175 N. Jackson St. \, Jackson\, WY\, 83001\, United States
CATEGORIES:Special Events
GEO:43.48162;-110.766585
X-APPLE-STRUCTURED-LOCATION;VALUE=URI;X-ADDRESS=The Wild Sage 175 N. Jackson St.  Jackson WY 83001 United States;X-APPLE-RADIUS=500;X-TITLE=175 N. Jackson St.:geo:-110.766585,43.48162
END:VEVENT
BEGIN:VEVENT
DTSTART;TZID=America/Denver:20250627T183000
DTEND;TZID=America/Denver:20250627T213000
DTSTAMP:20260424T042450
CREATED:20250509T201852Z
LAST-MODIFIED:20250509T201852Z
UID:88828-1751049000-1751059800@dishingjh.com
SUMMARY:Jackson Hole Food & Wine Dinner Series: Contemporary California
DESCRIPTION:This evening is hosted at the Snake\nRiver Sporting Club\, where culinary\nexcellence meets stunning natural\nbeauty. Prepare your taste buds\nfor an extraordinary multicourse\ndinner featuring renowned guest\nchef Melissa Perello of Frances\nand Octavia in San Francisco.\nChef Perello will showcase her\nculinary talents with an incredible\nmenu of local\, seasonal California\ningredients paired with a curated\nselection of fine wines. Indulge in an\nevening filled with gourmet cuisine\,\nflavorful wines and enchanting\nsurroundings.
URL:https://dishingjh.com/event/jackson-hole-food-wine-dinner-series-contemporary-california/
LOCATION:Snake River Sporting Club\, 14885 Sporting Club Road\, Jackson\, WY\, 83001\, United States
CATEGORIES:Special Events
END:VEVENT
BEGIN:VEVENT
DTSTART;TZID=America/Denver:20250628T080000
DTEND;TZID=America/Denver:20250628T120000
DTSTAMP:20260424T042450
CREATED:20250509T193613Z
LAST-MODIFIED:20250509T193613Z
UID:88755-1751097600-1751112000@dishingjh.com
SUMMARY:Jackson Hole Farmers Market
DESCRIPTION:This Saturday morning hot spot for\nfood lovers offers a wide selection\nof fresh produce\, meats\, cheeses\,\nbreads\, sweet treats\, food trucks and\nmuch more. Be sure to come early\nto get your pick of the best seasonal\nitems before they sell out. Stop by\none of the booths serving up coffee\nand breakfast to fuel your Town\nSquare lap.
URL:https://dishingjh.com/event/jackson-hole-farmers-market-5/2025-06-28/
LOCATION:Jackson Hole Town Square\, 10 E Broadway Ave\, Jackson\, WY\, 83001\, United States
CATEGORIES:Special Events
END:VEVENT
BEGIN:VEVENT
DTSTART;TZID=America/Denver:20250628T173000
DTEND;TZID=America/Denver:20250628T203000
DTSTAMP:20260424T042450
CREATED:20250509T202114Z
LAST-MODIFIED:20250509T202114Z
UID:88830-1751131800-1751142600@dishingjh.com
SUMMARY:Jackson Hole Food and Wine Summer Festival: Savor
DESCRIPTION:Savor an unforgettable afternoon\nas the weekend’s featured guest\nchefs — including Cody Cheetham\nof Frasca Hospitality Group in\nBoulder\, Melissa Perello of Frances\nand Octavia in San Francisco\, and\nYETI pitmasters Leonard Botello\nIV of Truth BBQ in Houston and\nAndrew and Melissa Munoz of\nMoo’s Craft Barbecue in Los\nAngeles — come together with\nJackson Hole’s finest culinary talent\nto present the ultimate Western\nwalk-around tasting. Delight your\nsenses with a diverse array of\nsmall plates showcasing the best\nof local flavors and inspirations.\nQuench your thirst with a variety of\ncrisp wines\, beers and beautifully\ncrafted cocktails as you mingle with\nfellow food enthusiasts. Enjoy live\nmusic from local bluegrass favorite\nOne Ton Pig\, creating the perfect\nambiance for this delightful culinary\nexperience.
URL:https://dishingjh.com/event/jackson-hole-food-and-wine-summer-festival-savor/
LOCATION:Mead Ranch\, Jackson\, WY\, 83001\, United States
CATEGORIES:Special Events
GEO:43.4686966;-110.6724168
END:VEVENT
BEGIN:VEVENT
DTSTART;TZID=America/Denver:20250629T000000
DTEND;TZID=America/Denver:20250629T235959
DTSTAMP:20260424T042450
CREATED:20250514T181716Z
LAST-MODIFIED:20250514T181716Z
UID:88902-1751155200-1751241599@dishingjh.com
SUMMARY:Jackson Hole Winery Wine Tastings
DESCRIPTION:Join Jackson Hole Winery this summer at Astoria Hot Springs for wine tastings in the sun along the Snake River! Starting June 5 through the end of September 2025. Sundays and Thursdays we will host wine tastings at the Johnny Counts Cabin next to the Astoria Hot Springs Pools. Give us a call to book reservations!
URL:https://dishingjh.com/event/jackson-hole-winery-wine-tastings/2025-06-29/
LOCATION:Astoria Hot Springs\, 1 Johnny Counts Road\, Jackson\, WY\, 83001\, United States
CATEGORIES:Special Events
END:VEVENT
BEGIN:VEVENT
DTSTART;TZID=America/Denver:20250629T113000
DTEND;TZID=America/Denver:20250629T160000
DTSTAMP:20260424T042450
CREATED:20250614T173711Z
LAST-MODIFIED:20250614T173711Z
UID:89313-1751196600-1751212800@dishingjh.com
SUMMARY:Sunday BBQ & Blues
DESCRIPTION:Grab a seat at our gastropub and enjoy weekly BBQ and blues mountainside\, featuring unbelievable views and the charm of Rendezvous Mountain.
URL:https://dishingjh.com/event/sunday-bbq-blues/2025-06-29/
LOCATION:The Handle Bar\, 7680 Granite Loop Rd\, Teton Village\, WY\, 83025\, United States
CATEGORIES:Holiday Festivity,Hours & Information,Live Music,Special Events
GEO:43.5888597;-110.8270034
X-APPLE-STRUCTURED-LOCATION;VALUE=URI;X-ADDRESS=The Handle Bar 7680 Granite Loop Rd Teton Village WY 83025 United States;X-APPLE-RADIUS=500;X-TITLE=7680 Granite Loop Rd:geo:-110.8270034,43.5888597
END:VEVENT
BEGIN:VEVENT
DTSTART;TZID=America/Denver:20250629T170000
DTEND;TZID=America/Denver:20250629T170000
DTSTAMP:20260424T042450
CREATED:20250509T192340Z
LAST-MODIFIED:20250509T192340Z
UID:88679-1751216400-1751216400@dishingjh.com
SUMMARY:Sunday Fundays and Concerts on the Commons
DESCRIPTION:Spend your Sundays in Teton Village\nwith discounted bike park tickets\nand bike rentals and a weekly disc\ngolf tournament. After a day full\nof outdoor activities\, enjoy food\nand drink specials from RPK3 as\nlive music kicks off with Concerts\non the Commons. Exciting talent\nfrom across the country brings the\ncommunity together at the Teton\nVillage Commons for the ultimate\nmusic and foodie fix. Grab food and\ndrinks at the show as restaurants\nsell a variety of snacks and drinks\nthroughout the afternoon and\nevening.
URL:https://dishingjh.com/event/sunday-fundays-and-concerts-on-the-commons/2025-06-29/
LOCATION:Jackson Hole Mountain Resort\, Teton Village\, WY\, 83025\, United States
CATEGORIES:Live Music,Special Events
GEO:43.5873149;-110.8269876
END:VEVENT
BEGIN:VEVENT
DTSTART;TZID=America/Denver:20250630T170000
DTEND;TZID=America/Denver:20250630T190000
DTSTAMP:20260424T042450
CREATED:20250621T045503Z
LAST-MODIFIED:20250623T211946Z
UID:89407-1751302800-1751310000@dishingjh.com
SUMMARY:Grazing Rights Summer Food Truck Series
DESCRIPTION:Join Grazing Rights for rotating food vendors\, beverages\, and frozen treats! \nSPECIAL NOTE: \nThe first Grazing Rights Summer Food Truck event will be held at MAY PARK\, and ALL following evenings will be held at MIKE YOKEL PARK
URL:https://dishingjh.com/event/grazing-rights-summer-food-truck-series/
LOCATION:May Park
END:VEVENT
BEGIN:VEVENT
DTSTART;TZID=America/Denver:20250702T160000
DTEND;TZID=America/Denver:20250702T190000
DTSTAMP:20260424T042450
CREATED:20250509T191942Z
LAST-MODIFIED:20250509T191942Z
UID:88661-1751472000-1751482800@dishingjh.com
SUMMARY:People's Market
DESCRIPTION:The summer People’s Market is a farmers market\nfor local growers and producers; an incubator for\nlocally made\, sustainable crafts; and a gathering\nspace for the community to celebrate local and\nregional good\, clean and fair food. Find produce\,\nbaked goods\, food trucks and more on Wednesdays\nin the peak of summer.
URL:https://dishingjh.com/event/peoples-market-3/2025-07-02/
LOCATION:Center For the Arts\, 265 S. Cache St\, Jackson\, WY\, United States
CATEGORIES:Special Events
GEO:43.4767654;-110.7624158
X-APPLE-STRUCTURED-LOCATION;VALUE=URI;X-ADDRESS=Center For the Arts 265 S. Cache St Jackson WY United States;X-APPLE-RADIUS=500;X-TITLE=265 S. Cache St:geo:-110.7624158,43.4767654
END:VEVENT
BEGIN:VEVENT
DTSTART;TZID=America/Denver:20250703T000000
DTEND;TZID=America/Denver:20250703T000000
DTSTAMP:20260424T042450
CREATED:20250509T193313Z
LAST-MODIFIED:20250509T193313Z
UID:88731-1751500800-1751500800@dishingjh.com
SUMMARY:Slow Food in the Tetons Farm Stand
DESCRIPTION:Order ahead online (tetonslowfood.\norg/online-markeplace) or stop by the\nSlow Food Farm Stand for fresh\, local\nand regional food.
URL:https://dishingjh.com/event/slow-food-in-the-tetons-farm-stand-2/2025-07-03/
LOCATION:Snake River Brewery\, 265 S. Millward St\, Jackson\, WY\, 83001\, United States
CATEGORIES:Special Events
GEO:43.4768201;-110.7650641
X-APPLE-STRUCTURED-LOCATION;VALUE=URI;X-ADDRESS=Snake River Brewery 265 S. Millward St Jackson WY 83001 United States;X-APPLE-RADIUS=500;X-TITLE=265 S. Millward St:geo:-110.7650641,43.4768201
END:VEVENT
BEGIN:VEVENT
DTSTART;TZID=America/Denver:20250703T000000
DTEND;TZID=America/Denver:20250703T235959
DTSTAMP:20260424T042450
CREATED:20250514T181716Z
LAST-MODIFIED:20250514T181716Z
UID:88903-1751500800-1751587199@dishingjh.com
SUMMARY:Jackson Hole Winery Wine Tastings
DESCRIPTION:Join Jackson Hole Winery this summer at Astoria Hot Springs for wine tastings in the sun along the Snake River! Starting June 5 through the end of September 2025. Sundays and Thursdays we will host wine tastings at the Johnny Counts Cabin next to the Astoria Hot Springs Pools. Give us a call to book reservations!
URL:https://dishingjh.com/event/jackson-hole-winery-wine-tastings/2025-07-03/
LOCATION:Astoria Hot Springs\, 1 Johnny Counts Road\, Jackson\, WY\, 83001\, United States
CATEGORIES:Special Events
END:VEVENT
BEGIN:VEVENT
DTSTART;TZID=America/Denver:20250703T170000
DTEND;TZID=America/Denver:20250703T170000
DTSTAMP:20260424T042450
CREATED:20250509T192340Z
LAST-MODIFIED:20250509T192340Z
UID:88680-1751562000-1751562000@dishingjh.com
SUMMARY:Sunday Fundays and Concerts on the Commons
DESCRIPTION:Spend your Sundays in Teton Village\nwith discounted bike park tickets\nand bike rentals and a weekly disc\ngolf tournament. After a day full\nof outdoor activities\, enjoy food\nand drink specials from RPK3 as\nlive music kicks off with Concerts\non the Commons. Exciting talent\nfrom across the country brings the\ncommunity together at the Teton\nVillage Commons for the ultimate\nmusic and foodie fix. Grab food and\ndrinks at the show as restaurants\nsell a variety of snacks and drinks\nthroughout the afternoon and\nevening.
URL:https://dishingjh.com/event/sunday-fundays-and-concerts-on-the-commons/2025-07-03/
LOCATION:Jackson Hole Mountain Resort\, Teton Village\, WY\, 83025\, United States
CATEGORIES:Live Music,Special Events
GEO:43.5873149;-110.8269876
END:VEVENT
BEGIN:VEVENT
DTSTART;TZID=America/Denver:20250703T170000
DTEND;TZID=America/Denver:20250703T170000
DTSTAMP:20260424T042450
CREATED:20250606T032147Z
LAST-MODIFIED:20250606T032331Z
UID:89202-1751562000-1751562000@dishingjh.com
SUMMARY:Snake River Brewing Summer Music Series 2025
DESCRIPTION:Summer is always better with a little live music. Enjoy our award winning beers and food menu alongside outdoor fun and smooth vibes. \n6/12: Quinlan Valdez\n6/26: DJ ECHO\n7/3: Jamie Hansen\n7/17: TBA\n7/31: Greg Hise Band\n8/14: Jamie Hansen\n8/28: Brendan Nolan\n9/11: Dangling Chains
URL:https://dishingjh.com/event/snake-river-brewing-summer-music-series-2025/2025-07-03/
LOCATION:Snake River Brewery\, 265 S. Millward St\, Jackson\, WY\, 83001\, United States
CATEGORIES:Hours & Information,Live Music,Special Events
GEO:43.4768201;-110.7650641
X-APPLE-STRUCTURED-LOCATION;VALUE=URI;X-ADDRESS=Snake River Brewery 265 S. Millward St Jackson WY 83001 United States;X-APPLE-RADIUS=500;X-TITLE=265 S. Millward St:geo:-110.7650641,43.4768201
END:VEVENT
BEGIN:VEVENT
DTSTART;TZID=America/Denver:20250704T073000
DTEND;TZID=America/Denver:20250704T090000
DTSTAMP:20260424T042450
CREATED:20250509T193935Z
LAST-MODIFIED:20250509T193935Z
UID:88783-1751614200-1751619600@dishingjh.com
SUMMARY:Pancake Breakfast
DESCRIPTION:Start off Fourth of July festivities\nwith an all-American breakfast\nthat includes eggs\, sausage and\ndelicious pancakes featuring a secret\ningredient. After breakfast\, head\nto the Town Square to watch the\nparade and soak up the community\nspirit. Wrap up this festive day in\nTeton Village or at Snow King for a\nmagnificent fireworks show.
URL:https://dishingjh.com/event/pancake-breakfast/
LOCATION:Jackson Hole Town Square\, 10 E Broadway Ave\, Jackson\, WY\, 83001\, United States
CATEGORIES:Holiday Festivity,Special Events
END:VEVENT
BEGIN:VEVENT
DTSTART;TZID=America/Denver:20250704T170000
DTEND;TZID=America/Denver:20250704T170000
DTSTAMP:20260424T042450
CREATED:20250509T192340Z
LAST-MODIFIED:20250509T192340Z
UID:88681-1751648400-1751648400@dishingjh.com
SUMMARY:Sunday Fundays and Concerts on the Commons
DESCRIPTION:Spend your Sundays in Teton Village\nwith discounted bike park tickets\nand bike rentals and a weekly disc\ngolf tournament. After a day full\nof outdoor activities\, enjoy food\nand drink specials from RPK3 as\nlive music kicks off with Concerts\non the Commons. Exciting talent\nfrom across the country brings the\ncommunity together at the Teton\nVillage Commons for the ultimate\nmusic and foodie fix. Grab food and\ndrinks at the show as restaurants\nsell a variety of snacks and drinks\nthroughout the afternoon and\nevening.
URL:https://dishingjh.com/event/sunday-fundays-and-concerts-on-the-commons/2025-07-04/
LOCATION:Jackson Hole Mountain Resort\, Teton Village\, WY\, 83025\, United States
CATEGORIES:Live Music,Special Events
GEO:43.5873149;-110.8269876
END:VEVENT
BEGIN:VEVENT
DTSTART;TZID=America/Denver:20250705T080000
DTEND;TZID=America/Denver:20250705T120000
DTSTAMP:20260424T042450
CREATED:20250509T193613Z
LAST-MODIFIED:20250509T193613Z
UID:88756-1751702400-1751716800@dishingjh.com
SUMMARY:Jackson Hole Farmers Market
DESCRIPTION:This Saturday morning hot spot for\nfood lovers offers a wide selection\nof fresh produce\, meats\, cheeses\,\nbreads\, sweet treats\, food trucks and\nmuch more. Be sure to come early\nto get your pick of the best seasonal\nitems before they sell out. Stop by\none of the booths serving up coffee\nand breakfast to fuel your Town\nSquare lap.
URL:https://dishingjh.com/event/jackson-hole-farmers-market-5/2025-07-05/
LOCATION:Jackson Hole Town Square\, 10 E Broadway Ave\, Jackson\, WY\, 83001\, United States
CATEGORIES:Special Events
END:VEVENT
BEGIN:VEVENT
DTSTART;TZID=America/Denver:20250705T183000
DTEND;TZID=America/Denver:20250705T183000
DTSTAMP:20260424T042450
CREATED:20250509T193012Z
LAST-MODIFIED:20250509T193012Z
UID:88706-1751740200-1751740200@dishingjh.com
SUMMARY:Snow King Concert Series
DESCRIPTION:After a quick ride up the gondola\,\nenjoy amazing music\, local food\, craft\nbeverages and spectacular views\nof Jackson Hole. See one of five\nGrammy-winning bands and artists\nlike Luke Grimes\, Modest Mouse\,\nFlatland Cavalry\, Shane Smith & The\nSaints and more.
URL:https://dishingjh.com/event/snow-king-concert-series/2025-07-05/
LOCATION:Snow King Mountain
CATEGORIES:Live Music,Special Events
END:VEVENT
BEGIN:VEVENT
DTSTART;TZID=America/Denver:20250706T000000
DTEND;TZID=America/Denver:20250706T235959
DTSTAMP:20260424T042450
CREATED:20250514T181716Z
LAST-MODIFIED:20250514T181716Z
UID:88904-1751760000-1751846399@dishingjh.com
SUMMARY:Jackson Hole Winery Wine Tastings
DESCRIPTION:Join Jackson Hole Winery this summer at Astoria Hot Springs for wine tastings in the sun along the Snake River! Starting June 5 through the end of September 2025. Sundays and Thursdays we will host wine tastings at the Johnny Counts Cabin next to the Astoria Hot Springs Pools. Give us a call to book reservations!
URL:https://dishingjh.com/event/jackson-hole-winery-wine-tastings/2025-07-06/
LOCATION:Astoria Hot Springs\, 1 Johnny Counts Road\, Jackson\, WY\, 83001\, United States
CATEGORIES:Special Events
END:VEVENT
BEGIN:VEVENT
DTSTART;TZID=America/Denver:20250706T113000
DTEND;TZID=America/Denver:20250706T160000
DTSTAMP:20260424T042450
CREATED:20250614T173711Z
LAST-MODIFIED:20250614T173711Z
UID:89314-1751801400-1751817600@dishingjh.com
SUMMARY:Sunday BBQ & Blues
DESCRIPTION:Grab a seat at our gastropub and enjoy weekly BBQ and blues mountainside\, featuring unbelievable views and the charm of Rendezvous Mountain.
URL:https://dishingjh.com/event/sunday-bbq-blues/2025-07-06/
LOCATION:The Handle Bar\, 7680 Granite Loop Rd\, Teton Village\, WY\, 83025\, United States
CATEGORIES:Holiday Festivity,Hours & Information,Live Music,Special Events
GEO:43.5888597;-110.8270034
X-APPLE-STRUCTURED-LOCATION;VALUE=URI;X-ADDRESS=The Handle Bar 7680 Granite Loop Rd Teton Village WY 83025 United States;X-APPLE-RADIUS=500;X-TITLE=7680 Granite Loop Rd:geo:-110.8270034,43.5888597
END:VEVENT
BEGIN:VEVENT
DTSTART;TZID=America/Denver:20250706T170000
DTEND;TZID=America/Denver:20250706T170000
DTSTAMP:20260424T042450
CREATED:20250509T192340Z
LAST-MODIFIED:20250509T192340Z
UID:88682-1751821200-1751821200@dishingjh.com
SUMMARY:Sunday Fundays and Concerts on the Commons
DESCRIPTION:Spend your Sundays in Teton Village\nwith discounted bike park tickets\nand bike rentals and a weekly disc\ngolf tournament. After a day full\nof outdoor activities\, enjoy food\nand drink specials from RPK3 as\nlive music kicks off with Concerts\non the Commons. Exciting talent\nfrom across the country brings the\ncommunity together at the Teton\nVillage Commons for the ultimate\nmusic and foodie fix. Grab food and\ndrinks at the show as restaurants\nsell a variety of snacks and drinks\nthroughout the afternoon and\nevening.
URL:https://dishingjh.com/event/sunday-fundays-and-concerts-on-the-commons/2025-07-06/
LOCATION:Jackson Hole Mountain Resort\, Teton Village\, WY\, 83025\, United States
CATEGORIES:Live Music,Special Events
GEO:43.5873149;-110.8269876
END:VEVENT
BEGIN:VEVENT
DTSTART;TZID=America/Denver:20250706T183000
DTEND;TZID=America/Denver:20250706T183000
DTSTAMP:20260424T042450
CREATED:20250509T193012Z
LAST-MODIFIED:20250509T193012Z
UID:88707-1751826600-1751826600@dishingjh.com
SUMMARY:Snow King Concert Series
DESCRIPTION:After a quick ride up the gondola\,\nenjoy amazing music\, local food\, craft\nbeverages and spectacular views\nof Jackson Hole. See one of five\nGrammy-winning bands and artists\nlike Luke Grimes\, Modest Mouse\,\nFlatland Cavalry\, Shane Smith & The\nSaints and more.
URL:https://dishingjh.com/event/snow-king-concert-series/2025-07-06/
LOCATION:Snow King Mountain
CATEGORIES:Live Music,Special Events
END:VEVENT
END:VCALENDAR