BEGIN:VCALENDAR
VERSION:2.0
PRODID:-//Jackson Hole Restaurants - ECPv6.15.20//NONSGML v1.0//EN
CALSCALE:GREGORIAN
METHOD:PUBLISH
X-WR-CALNAME:Jackson Hole Restaurants
X-ORIGINAL-URL:https://dishingjh.com
X-WR-CALDESC:Events for Jackson Hole Restaurants
REFRESH-INTERVAL;VALUE=DURATION:PT1H
X-Robots-Tag:noindex
X-PUBLISHED-TTL:PT1H
BEGIN:VTIMEZONE
TZID:America/Denver
BEGIN:DAYLIGHT
TZOFFSETFROM:-0700
TZOFFSETTO:-0600
TZNAME:MDT
DTSTART:20240310T090000
END:DAYLIGHT
BEGIN:STANDARD
TZOFFSETFROM:-0600
TZOFFSETTO:-0700
TZNAME:MST
DTSTART:20241103T080000
END:STANDARD
BEGIN:DAYLIGHT
TZOFFSETFROM:-0700
TZOFFSETTO:-0600
TZNAME:MDT
DTSTART:20250309T090000
END:DAYLIGHT
BEGIN:STANDARD
TZOFFSETFROM:-0600
TZOFFSETTO:-0700
TZNAME:MST
DTSTART:20251102T080000
END:STANDARD
BEGIN:DAYLIGHT
TZOFFSETFROM:-0700
TZOFFSETTO:-0600
TZNAME:MDT
DTSTART:20260308T090000
END:DAYLIGHT
BEGIN:STANDARD
TZOFFSETFROM:-0600
TZOFFSETTO:-0700
TZNAME:MST
DTSTART:20261101T080000
END:STANDARD
END:VTIMEZONE
BEGIN:VEVENT
DTSTART;TZID=America/Denver:20250613T183000
DTEND;TZID=America/Denver:20250613T183000
DTSTAMP:20260425T130714
CREATED:20250509T193012Z
LAST-MODIFIED:20250509T193012Z
UID:88705-1749839400-1749839400@dishingjh.com
SUMMARY:Snow King Concert Series
DESCRIPTION:After a quick ride up the gondola\,\nenjoy amazing music\, local food\, craft\nbeverages and spectacular views\nof Jackson Hole. See one of five\nGrammy-winning bands and artists\nlike Luke Grimes\, Modest Mouse\,\nFlatland Cavalry\, Shane Smith & The\nSaints and more.
URL:https://dishingjh.com/event/snow-king-concert-series/2025-06-13/
LOCATION:Snow King Mountain
CATEGORIES:Live Music,Special Events
END:VEVENT
BEGIN:VEVENT
DTSTART;TZID=America/Denver:20250612T183000
DTEND;TZID=America/Denver:20250612T183000
DTSTAMP:20260425T130714
CREATED:20250509T193012Z
LAST-MODIFIED:20250509T193012Z
UID:88704-1749753000-1749753000@dishingjh.com
SUMMARY:Snow King Concert Series
DESCRIPTION:After a quick ride up the gondola\,\nenjoy amazing music\, local food\, craft\nbeverages and spectacular views\nof Jackson Hole. See one of five\nGrammy-winning bands and artists\nlike Luke Grimes\, Modest Mouse\,\nFlatland Cavalry\, Shane Smith & The\nSaints and more.
URL:https://dishingjh.com/event/snow-king-concert-series/2025-06-12/
LOCATION:Snow King Mountain
CATEGORIES:Live Music,Special Events
END:VEVENT
BEGIN:VEVENT
DTSTART;TZID=America/Denver:20250612T180000
DTEND;TZID=America/Denver:20250612T180000
DTSTAMP:20260425T130714
CREATED:20250605T042631Z
LAST-MODIFIED:20250605T042631Z
UID:89150-1749751200-1749751200@dishingjh.com
SUMMARY:Rooftop Wine Dinner
DESCRIPTION:Soak in the Jackson Hole summer nights at our upcoming Wine Dinner with August Imports. The dinner will take place on The Rooftop of The Cloudveil and will feature passed appetizers\, multiple courses of fantastic food and expertly paired wines. Reserve a seat for a remarkable evening.
URL:https://dishingjh.com/event/rooftop-wine-dinner/
LOCATION:The Rooftop at the Cloudveil Hotel\, 112 Center Street\, Jackson\, 83001\, United States
CATEGORIES:Hours & Information,Special Events
END:VEVENT
BEGIN:VEVENT
DTSTART;TZID=America/Denver:20250612T170000
DTEND;TZID=America/Denver:20250612T170000
DTSTAMP:20260425T130714
CREATED:20250606T032147Z
LAST-MODIFIED:20250606T032331Z
UID:89200-1749747600-1749747600@dishingjh.com
SUMMARY:Snake River Brewing Summer Music Series 2025
DESCRIPTION:Summer is always better with a little live music. Enjoy our award winning beers and food menu alongside outdoor fun and smooth vibes. \n6/12: Quinlan Valdez\n6/26: DJ ECHO\n7/3: Jamie Hansen\n7/17: TBA\n7/31: Greg Hise Band\n8/14: Jamie Hansen\n8/28: Brendan Nolan\n9/11: Dangling Chains
URL:https://dishingjh.com/event/snake-river-brewing-summer-music-series-2025/2025-06-12/
LOCATION:Snake River Brewery\, 265 S. Millward St\, Jackson\, WY\, 83001\, United States
CATEGORIES:Hours & Information,Live Music,Special Events
GEO:43.4768201;-110.7650641
X-APPLE-STRUCTURED-LOCATION;VALUE=URI;X-ADDRESS=Snake River Brewery 265 S. Millward St Jackson WY 83001 United States;X-APPLE-RADIUS=500;X-TITLE=265 S. Millward St:geo:-110.7650641,43.4768201
END:VEVENT
BEGIN:VEVENT
DTSTART;TZID=America/Denver:20250612T000000
DTEND;TZID=America/Denver:20250612T235959
DTSTAMP:20260425T130714
CREATED:20250514T181716Z
LAST-MODIFIED:20250514T181716Z
UID:88897-1749686400-1749772799@dishingjh.com
SUMMARY:Jackson Hole Winery Wine Tastings
DESCRIPTION:Join Jackson Hole Winery this summer at Astoria Hot Springs for wine tastings in the sun along the Snake River! Starting June 5 through the end of September 2025. Sundays and Thursdays we will host wine tastings at the Johnny Counts Cabin next to the Astoria Hot Springs Pools. Give us a call to book reservations!
URL:https://dishingjh.com/event/jackson-hole-winery-wine-tastings/2025-06-12/
LOCATION:Astoria Hot Springs\, 1 Johnny Counts Road\, Jackson\, WY\, 83001\, United States
CATEGORIES:Special Events
END:VEVENT
BEGIN:VEVENT
DTSTART;TZID=America/Denver:20250608T170000
DTEND;TZID=America/Denver:20250608T170000
DTSTAMP:20260425T130714
CREATED:20250509T192339Z
LAST-MODIFIED:20250509T192339Z
UID:88676-1749402000-1749402000@dishingjh.com
SUMMARY:Sunday Fundays and Concerts on the Commons
DESCRIPTION:Spend your Sundays in Teton Village\nwith discounted bike park tickets\nand bike rentals and a weekly disc\ngolf tournament. After a day full\nof outdoor activities\, enjoy food\nand drink specials from RPK3 as\nlive music kicks off with Concerts\non the Commons. Exciting talent\nfrom across the country brings the\ncommunity together at the Teton\nVillage Commons for the ultimate\nmusic and foodie fix. Grab food and\ndrinks at the show as restaurants\nsell a variety of snacks and drinks\nthroughout the afternoon and\nevening.
URL:https://dishingjh.com/event/sunday-fundays-and-concerts-on-the-commons/2025-06-08/
LOCATION:Jackson Hole Mountain Resort\, Teton Village\, WY\, 83025\, United States
CATEGORIES:Live Music,Special Events
GEO:43.5873149;-110.8269876
END:VEVENT
BEGIN:VEVENT
DTSTART;TZID=America/Denver:20250608T000000
DTEND;TZID=America/Denver:20250608T235959
DTSTAMP:20260425T130714
CREATED:20250514T181716Z
LAST-MODIFIED:20250514T181716Z
UID:88896-1749340800-1749427199@dishingjh.com
SUMMARY:Jackson Hole Winery Wine Tastings
DESCRIPTION:Join Jackson Hole Winery this summer at Astoria Hot Springs for wine tastings in the sun along the Snake River! Starting June 5 through the end of September 2025. Sundays and Thursdays we will host wine tastings at the Johnny Counts Cabin next to the Astoria Hot Springs Pools. Give us a call to book reservations!
URL:https://dishingjh.com/event/jackson-hole-winery-wine-tastings/2025-06-08/
LOCATION:Astoria Hot Springs\, 1 Johnny Counts Road\, Jackson\, WY\, 83001\, United States
CATEGORIES:Special Events
END:VEVENT
BEGIN:VEVENT
DTSTART;TZID=America/Denver:20250607T183000
DTEND;TZID=America/Denver:20250607T183000
DTSTAMP:20260425T130714
CREATED:20250509T193011Z
LAST-MODIFIED:20250509T193011Z
UID:88703-1749321000-1749321000@dishingjh.com
SUMMARY:Snow King Concert Series
DESCRIPTION:After a quick ride up the gondola\,\nenjoy amazing music\, local food\, craft\nbeverages and spectacular views\nof Jackson Hole. See one of five\nGrammy-winning bands and artists\nlike Luke Grimes\, Modest Mouse\,\nFlatland Cavalry\, Shane Smith & The\nSaints and more.
URL:https://dishingjh.com/event/snow-king-concert-series/2025-06-07/
LOCATION:Snow King Mountain
CATEGORIES:Live Music,Special Events
END:VEVENT
BEGIN:VEVENT
DTSTART;TZID=America/Denver:20250606T170000
DTEND;TZID=America/Denver:20250606T170000
DTSTAMP:20260425T130714
CREATED:20250509T192339Z
LAST-MODIFIED:20250509T192339Z
UID:88675-1749229200-1749229200@dishingjh.com
SUMMARY:Sunday Fundays and Concerts on the Commons
DESCRIPTION:Spend your Sundays in Teton Village\nwith discounted bike park tickets\nand bike rentals and a weekly disc\ngolf tournament. After a day full\nof outdoor activities\, enjoy food\nand drink specials from RPK3 as\nlive music kicks off with Concerts\non the Commons. Exciting talent\nfrom across the country brings the\ncommunity together at the Teton\nVillage Commons for the ultimate\nmusic and foodie fix. Grab food and\ndrinks at the show as restaurants\nsell a variety of snacks and drinks\nthroughout the afternoon and\nevening.
URL:https://dishingjh.com/event/sunday-fundays-and-concerts-on-the-commons/2025-06-06/
LOCATION:Jackson Hole Mountain Resort\, Teton Village\, WY\, 83025\, United States
CATEGORIES:Live Music,Special Events
GEO:43.5873149;-110.8269876
END:VEVENT
BEGIN:VEVENT
DTSTART;VALUE=DATE:20250605
DTEND;VALUE=DATE:20250606
DTSTAMP:20260425T130714
CREATED:20250514T181716Z
LAST-MODIFIED:20250514T183203Z
UID:88860-1749081600-1749081600@dishingjh.com
SUMMARY:Jackson Hole Winery Wine Tastings
DESCRIPTION:Join Jackson Hole Winery this summer at Astoria Hot Springs for wine tastings in the sun along the Snake River! Starting June 5 through the end of September 2025. Sundays and Thursdays we will host wine tastings at the Johnny Counts Cabin next to the Astoria Hot Springs Pools. Give us a call to book reservations!
URL:https://dishingjh.com/event/jackson-hole-winery-wine-tastings/2025-06-05/
LOCATION:Astoria Hot Springs\, 1 Johnny Counts Road\, Jackson\, WY\, 83001\, United States
CATEGORIES:Special Events
END:VEVENT
BEGIN:VEVENT
DTSTART;TZID=America/Denver:20250530T160000
DTEND;TZID=America/Denver:20250530T160000
DTSTAMP:20260425T130714
CREATED:20250509T191007Z
LAST-MODIFIED:20250509T191007Z
UID:88642-1748620800-1748620800@dishingjh.com
SUMMARY:Sips & Snacks
DESCRIPTION:Try new wines from Idaho Wine Merchant paired\nwith featured bites from Food Shed Idaho once a\nmonth throughout the summer. Enjoy this outdoor\ncommunity gathering as you sip\, snack\, shop and\ndiscover new favorites.
URL:https://dishingjh.com/event/sips-snacks-2/2025-05-30/
LOCATION:Food Shed Idaho\, 139 W Center St\, Victor\, ID\, 83455\, United States
END:VEVENT
BEGIN:VEVENT
DTSTART;TZID=America/Denver:20250530T110000
DTEND;TZID=America/Denver:20250530T230000
DTSTAMP:20260425T130714
CREATED:20250521T235246Z
LAST-MODIFIED:20250521T235246Z
UID:89020-1748602800-1748646000@dishingjh.com
SUMMARY:Protect Our Pints
DESCRIPTION:Join us all day Friday\, May 30th for some fun in the sun to cap off our Tap Into Science Series with Protect Our Water Jackson Hole! A celebration of water ecology stewardship\, safe summer practices and\, of course\, beer! \n*Outta Shorts LIVE 4-7PM\n*Protect Our Water Jackson Hole raffle – Win swag and a Kokopelli Packraft!\n*Grill out and beer on the lawn 3-8PM\n*Puppies on the Lawn 3PM in partnership with Animal Adoption Center\n*Slow Food in the Tetons Outreach Tent
URL:https://dishingjh.com/event/protect-our-pints/
LOCATION:Snake River Brewery\, 265 S. Millward St\, Jackson\, WY\, 83001\, United States
CATEGORIES:Special Events
GEO:43.4768201;-110.7650641
X-APPLE-STRUCTURED-LOCATION;VALUE=URI;X-ADDRESS=Snake River Brewery 265 S. Millward St Jackson WY 83001 United States;X-APPLE-RADIUS=500;X-TITLE=265 S. Millward St:geo:-110.7650641,43.4768201
END:VEVENT
BEGIN:VEVENT
DTSTART;VALUE=DATE:20250525
DTEND;VALUE=DATE:20250602
DTSTAMP:20260425T130714
CREATED:20250523T022240Z
LAST-MODIFIED:20250523T022240Z
UID:89039-1748131200-1748822399@dishingjh.com
SUMMARY:Agave Week at The Wild Sage
DESCRIPTION:May 25th -June 1st The Wild Sage is doing Agave week. \nAll week we will be featuring Wild Common cocktails for $15. \nTequila\, mezcal and sotol tasting flights (pick 3) for $18. \n$3 off all agave based liquors/cocktails (including Sotol). \nThese specials will be paired with a latin inspired appetizer menu. \nSpecials are available in the lounge\, and encouraged to be brought out to the courtyard (weather depending).
URL:https://dishingjh.com/event/agave-week-at-the-wild-sage/
LOCATION:The Wild Sage\, 175 N. Jackson St. \, Jackson\, WY\, 83001\, United States
GEO:43.48162;-110.766585
X-APPLE-STRUCTURED-LOCATION;VALUE=URI;X-ADDRESS=The Wild Sage 175 N. Jackson St.  Jackson WY 83001 United States;X-APPLE-RADIUS=500;X-TITLE=175 N. Jackson St.:geo:-110.766585,43.48162
END:VEVENT
BEGIN:VEVENT
DTSTART;TZID=America/Denver:20250524T110000
DTEND;TZID=America/Denver:20250524T160000
DTSTAMP:20260425T130714
CREATED:20250509T191555Z
LAST-MODIFIED:20250509T191555Z
UID:88657-1748084400-1748102400@dishingjh.com
SUMMARY:Old West Brewfest
DESCRIPTION:Sample the best brews of Jackson Hole and vote\nfor your favorite as breweries from around the\nregion gather on the Town Square to compete for\nthe golden boot — a people’s choice award.
URL:https://dishingjh.com/event/old-west-brewfest-2/
LOCATION:Jackson Hole Town Square\, 10 E Broadway Ave\, Jackson\, WY\, 83001\, United States
CATEGORIES:Special Events
END:VEVENT
BEGIN:VEVENT
DTSTART;TZID=America/Denver:20250518T120000
DTEND;TZID=America/Denver:20250518T160000
DTSTAMP:20260425T130714
CREATED:20250509T191328Z
LAST-MODIFIED:20250509T191328Z
UID:88654-1747569600-1747584000@dishingjh.com
SUMMARY:Old West Days High Noon Chili Cook Off
DESCRIPTION:This chili showdown features an amateur and\nprofessional category for competitors to vie for\nprizes and be named the chili cook-off champion.\nEnjoy local beers and a wide variety of chili options.\nDon’t forget to cast your vote for the best chili in\ntown.
URL:https://dishingjh.com/event/old-west-days-high-noon-chili-cook-off-2/
LOCATION:Jackson Hole Town Square\, 10 E Broadway Ave\, Jackson\, WY\, 83001\, United States
CATEGORIES:Special Events
END:VEVENT
BEGIN:VEVENT
DTSTART;TZID=America/Denver:20250517T160000
DTEND;TZID=America/Denver:20250517T190000
DTSTAMP:20260425T130714
CREATED:20250417T183653Z
LAST-MODIFIED:20250417T183653Z
UID:88493-1747497600-1747508400@dishingjh.com
SUMMARY:Spring Harvest Party at Satchitananda Farm
DESCRIPTION:Join Satchitananda Farm for their Spring Harvest Party from 1-4pm. \nStrawberry tastings\, garden starters\, farm tours\, and more! \nMore Details
URL:https://dishingjh.com/event/spring-harvest-party-at-satchitananda-farm/
LOCATION:Satchitananda Farm\, 3 Miner Creek Rd\, Pinedale\, 82941\, United States
CATEGORIES:Special Events
END:VEVENT
BEGIN:VEVENT
DTSTART;VALUE=DATE:20250511
DTEND;VALUE=DATE:20250512
DTSTAMP:20260425T130714
CREATED:20250415T173723Z
LAST-MODIFIED:20250415T173723Z
UID:88477-1746921600-1747007999@dishingjh.com
SUMMARY:Mother's Day Brunch at FIGS
DESCRIPTION:Enjoy an hour and a half luxury brunch at FIGS for $129 per person\, plus add-ons. \nFIGS 2025 Brunch Menu PDF \nFIGS is located in Hotel Jackson. \n  \nMake reservations via resy.com
URL:https://dishingjh.com/event/mothers-day-brunch-at-figs/
LOCATION:FIGS
CATEGORIES:Special Events
END:VEVENT
BEGIN:VEVENT
DTSTART;TZID=America/Denver:20250510T173000
DTEND;TZID=America/Denver:20250510T220000
DTSTAMP:20260425T130714
CREATED:20250506T163206Z
LAST-MODIFIED:20250506T163206Z
UID:88602-1746898200-1746914400@dishingjh.com
SUMMARY:Bras for a Cause
DESCRIPTION:Bras for a Cause is back and turning the Million Dollar Cowboy Bar into an 80’s fever dream-with a purpose. \nIt’s a fundraiser\, it’s a party\, it’s a neon-splashed spectacle and benefits Soroptimist of Jackson Hole.
URL:https://dishingjh.com/event/bras-for-a-cause/
LOCATION:Million Dollar Cowboy\, 25 N. Cache\, Jackson\, WY\, 83001\, United States
CATEGORIES:Special Events
GEO:43.4798983;-110.7628803
X-APPLE-STRUCTURED-LOCATION;VALUE=URI;X-ADDRESS=Million Dollar Cowboy 25 N. Cache Jackson WY 83001 United States;X-APPLE-RADIUS=500;X-TITLE=25 N. Cache:geo:-110.7628803,43.4798983
END:VEVENT
BEGIN:VEVENT
DTSTART;TZID=America/Denver:20250509T000000
DTEND;TZID=America/Denver:20250509T000000
DTSTAMP:20260425T130714
CREATED:20250509T195051Z
LAST-MODIFIED:20250509T195051Z
UID:88787-1746748800-1746748800@dishingjh.com
SUMMARY:Wilson Fire Department's Annual Chicken Fry
DESCRIPTION:Sizzling home-style fried chicken\nand all the sides you crave are\ncomplemented perfectly by\nrefreshments from local breweries and\na picnic in the sunshine. This annual\nfundraiser in Wilson has brought the\ncommunity together for over 45 years\nto celebrate and support the Wilson\nFire Department.
URL:https://dishingjh.com/event/wilson-fire-departments-annual-chicken-fry/
CATEGORIES:Special Events
END:VEVENT
BEGIN:VEVENT
DTSTART;TZID=America/Denver:20250505T183000
DTEND;TZID=America/Denver:20250505T203000
DTSTAMP:20260425T130714
CREATED:20250414T134435Z
LAST-MODIFIED:20250414T134435Z
UID:88463-1746469800-1746477000@dishingjh.com
SUMMARY:Wine Dinner at Wild Sage
DESCRIPTION:The Wild Sage\, in the Rusty Parrot presents an evening with Bordeaux\, an elegant Bordelais themed five course tasting menu. \nCost is $350 per person\, only 20 seats available. Make your reservation via opentable.com
URL:https://dishingjh.com/event/wine-dinner-at-wild-sage/
LOCATION:The Wild Sage\, 175 N. Jackson St. \, Jackson\, WY\, 83001\, United States
CATEGORIES:Special Events
GEO:43.48162;-110.766585
X-APPLE-STRUCTURED-LOCATION;VALUE=URI;X-ADDRESS=The Wild Sage 175 N. Jackson St.  Jackson WY 83001 United States;X-APPLE-RADIUS=500;X-TITLE=175 N. Jackson St.:geo:-110.766585,43.48162
END:VEVENT
BEGIN:VEVENT
DTSTART;TZID=America/Denver:20250425T160000
DTEND;TZID=America/Denver:20250425T190000
DTSTAMP:20260425T130714
CREATED:20250331T205708Z
LAST-MODIFIED:20250331T205708Z
UID:88330-1745596800-1745607600@dishingjh.com
SUMMARY:High Tea\, celebrating one year in Wyoming at Nurse Jayme Aesthetics
DESCRIPTION:Celebrating one year in Wyoming and honoring their current patients for a successful 1st year. Enjoy discounts\, hors d’oeuvres\, refreshments\, and a Royal Queen Grand prize drawing. Free free to join the fun and dress the part! \nRSVP at nursejaymeaesthetics.com/rsvp
URL:https://dishingjh.com/event/high-tea-celebrating-one-year-in-wyoming-at-nurse-jayme-aesthetics/
LOCATION:Nurse Jayme Aesthetics\, 501 Main St\, Unit 1\, Thayne\, WY\, 83127\, United States
CATEGORIES:Special Events
END:VEVENT
BEGIN:VEVENT
DTSTART;TZID=America/Denver:20250424T170000
DTEND;TZID=America/Denver:20250424T190000
DTSTAMP:20260425T130714
CREATED:20250424T205942Z
LAST-MODIFIED:20250424T205942Z
UID:88513-1745514000-1745521200@dishingjh.com
SUMMARY:Wine Down Wednesday at the Wort
DESCRIPTION:Discover the hidden wines of the valley\, a $20 tasting of four local gems from 7 Stories\, Shick Family Wine & Cinder. \nPurchase tickets and more information
URL:https://dishingjh.com/event/wine-down-wednesday-at-the-wort/
LOCATION:Silver Dollar Bar and Grill\, 50 N. Glenwood \, Jackson\, WY\, 83001\, United States
CATEGORIES:Special Events
GEO:43.4798093;-110.7634998
X-APPLE-STRUCTURED-LOCATION;VALUE=URI;X-ADDRESS=Silver Dollar Bar and Grill 50 N. Glenwood  Jackson WY 83001 United States;X-APPLE-RADIUS=500;X-TITLE=50 N. Glenwood:geo:-110.7634998,43.4798093
END:VEVENT
BEGIN:VEVENT
DTSTART;TZID=America/Denver:20250422T180000
DTEND;TZID=America/Denver:20250422T200000
DTSTAMP:20260425T130714
CREATED:20250414T134925Z
LAST-MODIFIED:20250414T134925Z
UID:88465-1745344800-1745352000@dishingjh.com
SUMMARY:Spring Wine Dinner at Bin 22
DESCRIPTION:Join Bin 22 for their 5 course Spring Wine Dinner featuring Legend Imports on April 22nd. \nFeatured wines will be available at 15% off for the evening\, exclusively for Wine Dinner attendees. \nSeats are $120 per person\, plus tax and gratuity. \nMake your reservation
URL:https://dishingjh.com/event/spring-wine-dinner-at-bin-22/
LOCATION:Bin 22\, 200 W Broadway\, Jackson\, 83001\, United States
CATEGORIES:Special Events
END:VEVENT
BEGIN:VEVENT
DTSTART;VALUE=DATE:20250404
DTEND;VALUE=DATE:20250407
DTSTAMP:20260425T130714
CREATED:20250317T214445Z
LAST-MODIFIED:20250317T214445Z
UID:88263-1743724800-1743983999@dishingjh.com
SUMMARY:Rendezvous Fest at Jackson Hole Mountain Resort
DESCRIPTION:Enjoy two nights of free concerts at Jackson Hole Mountain Resort. \nFor a full line up: https://www.jacksonhole.com/rendezvous
URL:https://dishingjh.com/event/rendezvous-fest-at-jackson-hole-mountain-resort/
LOCATION:Jackson Hole Mountain Resort\, Teton Village\, WY\, 83025\, United States
CATEGORIES:Live Music,Special Events
GEO:43.5873149;-110.8269876
END:VEVENT
BEGIN:VEVENT
DTSTART;TZID=America/Denver:20250327T170000
DTEND;TZID=America/Denver:20250327T190000
DTSTAMP:20260425T130714
CREATED:20250131T201123Z
LAST-MODIFIED:20250131T201123Z
UID:87956-1743094800-1743102000@dishingjh.com
SUMMARY:Wine Supper Club Night at Dornans
DESCRIPTION:Enjoy a 3 course Dim Sum menu under the Tetons! Each course will be paired with wine\, selected by their go to wine gal Jen! \nReserve your table by emailing jenniferd@dornans.com
URL:https://dishingjh.com/event/wine-supper-club-night-at-dornans/
LOCATION:Dornans\, 12170 Dornans Road\, Moose\, 83012\, United States
CATEGORIES:Special Events
END:VEVENT
BEGIN:VEVENT
DTSTART;TZID=America/Denver:20250315T130000
DTEND;TZID=America/Denver:20250315T160000
DTSTAMP:20260425T130714
CREATED:20250218T184359Z
LAST-MODIFIED:20250218T184359Z
UID:88133-1742043600-1742054400@dishingjh.com
SUMMARY:Pride of Bristol Bay Salmon Buying Club Party
DESCRIPTION:Pre-order your salmon before March 2nd\, at a significant discount and pick up your order at the Teton Slow Food’s Winter People’s Market from 1-4pm at the Teton County Fairgrounds Community building\, located at 305 W Snow King Ave. \nTo order: https://prideofbristolbay.com/pages/jackson-wy \n  \n 
URL:https://dishingjh.com/event/pride-of-bristol-bay-salmon-buying-club-party/
LOCATION:Teton County Fairground Building\, 350 W. Snow King Ave.\, Jackson\, WY\, 83001\, United States
CATEGORIES:Special Events
END:VEVENT
BEGIN:VEVENT
DTSTART;TZID=America/Denver:20250314T160000
DTEND;TZID=America/Denver:20250314T210000
DTSTAMP:20260425T130714
CREATED:20241226T222604Z
LAST-MODIFIED:20241226T222604Z
UID:87437-1741968000-1741986000@dishingjh.com
SUMMARY:Late Nights at the King
DESCRIPTION:Kick of your weekend under the lights! Snow King Mountain will be serving up extended Night Skiing Hours until 9pm\, paired with live music. \nEnjoy $10 lift tickets and food and drink specials from 4-9pm. \n 
URL:https://dishingjh.com/event/late-nights-at-the-king-4/
LOCATION:Snow King Mountain
CATEGORIES:Live Music,Special Events
END:VEVENT
BEGIN:VEVENT
DTSTART;TZID=America/Denver:20250313T170000
DTEND;TZID=America/Denver:20250313T190000
DTSTAMP:20260425T130714
CREATED:20250131T200936Z
LAST-MODIFIED:20250131T200936Z
UID:87954-1741885200-1741892400@dishingjh.com
SUMMARY:Wine Supper Club at Dornans
DESCRIPTION:Enjoy a 3 course German inspired dinner paired with wine at Dornans on Thursday\, 3/13. \nReservations are available from 5pm-7pm. Email Jenniferd@dornans.com to reserve your table.
URL:https://dishingjh.com/event/wine-supper-club-at-dornans-3/
LOCATION:Dornans\, 12170 Dornans Road\, Moose\, 83012\, United States
CATEGORIES:Special Events
END:VEVENT
BEGIN:VEVENT
DTSTART;TZID=America/Denver:20250311T180000
DTEND;TZID=America/Denver:20250311T200000
DTSTAMP:20260425T130714
CREATED:20250227T222819Z
LAST-MODIFIED:20250227T222819Z
UID:88200-1741716000-1741723200@dishingjh.com
SUMMARY:Jackson Hole Farmer's Market Table on the Farm viewing party
DESCRIPTION:Join Jackson Hole Farmer’s Market at Roadhouse Pub and Eatery for a their first ever film screening of Table on the Farm. View four films to celebrate four amazing dinner events. \nDoors at 6pm\, movie at 7pm.
URL:https://dishingjh.com/event/jackson-hole-farmers-market-table-on-the-farm-viewing-party/
LOCATION:Roadhouse Pub & Eatery\, 20 East Broadway\, Jackson\, WY\, 83001\, United States
CATEGORIES:Special Events
END:VEVENT
BEGIN:VEVENT
DTSTART;TZID=America/Denver:20250308T183000
DTEND;TZID=America/Denver:20250308T213000
DTSTAMP:20260425T130714
CREATED:20250122T190459Z
LAST-MODIFIED:20250122T190459Z
UID:87827-1741458600-1741469400@dishingjh.com
SUMMARY:JH Food & Wine Wine Dinner at 900ft with Chef Rick Bayless and Vintus Wines
DESCRIPTION:Experience an unforgettable night high about the valley at Jackson Hole Mountain Resort’s Piste Bistro. \nEvent and ticket information 
URL:https://dishingjh.com/event/jh-food-wine-wine-dinner-at-900ft-with-chef-rick-bayless-and-vintus-wines/
LOCATION:Jackson Hole Mountain Resort\, Teton Village\, WY\, 83025\, United States
CATEGORIES:Special Events
GEO:43.5873149;-110.8269876
END:VEVENT
END:VCALENDAR